Workbook

Sheet 財１表
A2: 長野県登録統計 | C2: =転記用!$A$12&" 長野県県民経済計算調査票" -> 令和７年度 長野県県民経済計算調査票 | K2: 秘
A3: 第 03001 号 | C3: (一般会計・非企業特別会計用)
A6: 名 称 | F6: 会 計 区 分 | I6: 1. 一般会計
A7: 所 在 地 | C7: (例)〇〇〇-〇〇〇〇 | I7: (例)○○特別会計
C8: (例)〇〇県○○市xxx-xx | F8: 職 員 数 (対象年度3月末現在) ※常勤職員数を記載 | L8: 人
C9: 〇〇〇-〇〇-〇〇〇〇 電子メール（組織or所属） | G9: うち 長野県内分 | L9: 人
A10: 包括される 出先機関等 | F10: 担当部課名
F11: 記入者氏名
A12: １ 歳 入 | D12: ※長野県内分の金額が計上できず、全管轄分の金額を計上した項目は、「全管轄分」欄に
C13: （単位：千円） | D13: ○を記入してください。
A14: 番号 | B14: 項 目 | D14: =転記用!$A$12&"決算額" -> 令和７年度決算額 | E14: 全管轄分 | F14: 番号 | G14: 項 目 | K14: =転記用!$A$12&"決算額" -> 令和７年度決算額 | L14: 全管轄分
A15: 1200 | B15: 印紙収入 | F15: 5306 | G15: 許可及び手数料
A16: 3201 | B16: 病院収入 | F16: 5307 | G16: 受託調査試験及び役務収入
A17: 4101 | B17: 国有財産処分収入 | F17: 5308 | G17: 懲罰及び没収金
A18: 01 | B18: うち土地売払代 | F18: 5309 | G18: 弁償及び返納金
A19: 02 | B19: うち立木竹売払代 | F19: 01 | G19: うち弁償及び違約金
A20: 4203 | B20: 貸付金等回収金収入 | F20: 5310 | G20: 矯正官署作業収入
A21: 5101 | B21: 国有財産貸付収入 | F21: 5311 | G21: 物品売払収入
A22: 01 | B22: うち土地及び水面貸付料 (除、国有資産所在市町村交付金) | F22: 01 | G22: うち試験場製品等生産物売払収入
A23: 02 | B23: うち建物及び物件貸付料 | F23: 02 | G23: うち刊行物売払収入
A24: 03 | B24: うち公務員宿舎貸付料 | F24: 04 | G24: うち不用物品売払収入
A25: 04 | B25: うち機械貸付料 | F25: 5399 | G25: 雑入
A26: 5102 | B26: 国有財産使用収入 | F26: 01 | G26: うち労働保険料被保険者負担金
A27: 01 | B27: うち版権・特許料収入 | F27: 02 | G27: うち失業者退職手当特別会計等負担金
A28: 02 | B28: うち寄宿料 | F28: 03 | G28: うち小切手支払未済金収入
A29: 03 | B29: うち入場料等収入 | F29: 04 | G29: うち延滞金及び追徴金
A30: 04 | B30: うち飛行場及び航空保安施設使用料収入 | F30: 05 | G30: うち満期後収入
A31: 5103 | B31: 配当金収入 | F31: 07 | G31: うち職員等給食費受入
A32: 5104 | B32: 利子収入 | F32: 99 | G32: うち雑収
A33: 5203 | B33: 雑納付金 | F33: そ の 他 の 歳 入
A34: 5303 | B34: 特別会計受入金（他会計受入金）
A35: 24 | B35: 食料安定供給特別会計受入金
A36: 26 | B36: 財政投融資特別会計受入金
A37: 27 | B37: 自動車安全特別会計受入金
A38: 28 | B38: 年金特別会計受入金 | F38: 歳 入 合 計
A39: 30 | B39: エネルギー対策特別会計受入金
A40: 5304 | B40: 公共事業費負担金 | J40: 調査票番号 | L40: 財1
A41: 5305 | B41: 授業料及び入学検定料 | J41: 事業所番号
B43: ※ 裏面へお願いします。

Sheet 財１裏
A1: ２ 歳 出 | D1: （単位：千円）
A2: 番号 | B2: 項 目 | F2: =転記用!$A$12&"決算額" -> 令和７年度決算額 | G2: 全管轄分 | H2: 番号 | I2: 項 目 | N2: =転記用!$A$12&"決算額" -> 令和７年度決算額 | O2: 全管轄分
A3: 02 | B3: 職 員 基 本 給 | H3: 12 | I3: 委 託 費
A4: 03 | B4: 職 員 諸 手 当 | H4: 13 | I4: 施 設 費 計
A5: 04 | B5: 超 過 勤 務 手 当 | I5: うち 庁舎新設 ・改良費
A6: 05 | B6: 退 職 手 当 等 計 | I6: うち 住宅新設 ・改良費
B7: うち 公 務 災 害 補 償 金 | I7: うち 不 動 産 購 入 費
B8: うち 退 職 手 当 | J8: うち 土 地 購 入 費
B9: うち 政府職員等失業者退職手当 | I9: うち 無体財産権購入費
B10: うち 児 童 手 当 | I10: うち その他 （機械、航空機購入費等）
B11: うち 弔慰金 ・ 特別弔慰金 | H11: 14 | I11: 補助金 ・ 負担金 ・ 交付金
B12: うち そ の 他 （委員手当、非常勤職員手当、休職者給与等） | J12: うち 企業・民間団体に対するもの
A13: 06 | B13: 雑 給 与 計 | J13: うち 企業・民間団体に対するもの
B14: うち 諸 謝 金 | I14: 名称 | J14: （ ）
B15: うち 社会扶助給付費 （記入要領に例示） | I15: 名称 | J15: （ ）
B16: うち 資本移転給付 （記入要領に例示） | H16: 15 | I16: 交 際 費
B17: うち 被収容者作業報奨金、職業補導賞与金 | H17: 16 | I17: 賠償・償還及び払戻金 計
B18: うち そ の 他 内容（ ） | H18: 17 | I18: 保 証 金 ・ 予 納 金
A19: 07 | B19: 報 償 費 | H19: 18 | I19: 補 償 金
B20: 褒 賞 品 費 | H20: 19 | I20: 恩 給 ・ 年 金 等 計
A21: 08 | B21: 旅 費 | I21: うち 恩給費 、遺族等年金
A22: 09 | B22: 庁 費 計 | I22: うち 文 化 功 労 者 年 金
B23: うち 賃金（非常勤職員等） | I23: うち （特別）児童扶養手当
B24: うち 社会保険料（非常勤職員等） | H24: 20 | I24: 貸 付 金・貸 費 生 貸 与 金
B25: うち 損害保険料 | H25: 21 | I25: 出 資 金
B26: うち 土地 ・ 建物賃借料 | H26: 22 | I26: 供 託 金 利 子
C27: うち 土 地 | I27: 他 会 計 へ の 繰 入
C28: うち 建 物 | I28: 公 共 事 業 費
B29: うち 糧食費、被服費（防衛省） | I29: うち 長野県内分
B30: うち 教科書購入費 | J30: うち 用地費
B31: うち 引揚者援護費 | J31: うち 補償費
B32: うち 修 繕 ・ 補 修 費 | J32: うち 補助金・負担金
C33: うち 建物・構築物に係るもの | H33: その他の 歳 出
B34: うち 自 動 車 重 量 税
B35: うち そ の 他 （消耗品・備品・印刷製本・食糧費等）
A36: 10 | B36: 原 材 料 費 | H36: 歳 出 合 計
B38: ３ 土地・建物 | F38: （単位：㎡）
B39: 区 分 | F39: =転記用!$A$12&"末延面積" -> 令和７年度末延面積
B40: 土 地
B41: 建 物
...

Sheet Sheet2
B1: 令和7年度 県民経済計算調査票（国出先機関用）項目別記入要領・用途解説
B3: Ⅰ. 記入にあたっての共通基本ルール
B4: 1. 金額単位の厳守（千円単位・未満切り捨て）
B5: 本調査票の金額はすべて「千円単位（未満切り捨て）」です。
B6: 間違えやすい例: 決算額が「1,500,000円（150万円）」の場合、誤って「1,500,000」と入力すると、システム上「15億円」として集計されてしまいます。必ず「1,500」とご記入ください。
B7: 2. 「全管轄分」チェック欄の明記
B8: 決算システム等の都合により、長野県内分のみを抽出できず、関東甲信越など管轄エリア全体の合計額を記入した項目については、必ず右端の「全管轄分」欄に「〇」を記入してください。
B9: 数値の使い道: 県側で従業者数や面積などの割合を使って、長野県相当分を計算（按分）するために使用します。〇がないと管轄エリア全体の金額が長野県分として二重・過大に計算されてしまいます。
B10: 3. 特別な事情（組織改編・施設移管・一括清算等）の事前申告
B11: 施設の地方自治体への移管、組織の統廃合、制度変更等に伴い、例年にはない「一括清算金の受け入れ」「未償却残高の一括処理（除却損など）」「特別退職金」が発生した場合は、通常の年間活動から除外する調整を行います。
B12: 対応: 調査票の余白または別紙（任意の様式）に、「該当する項目」「金額」「変動の理由（例：〇〇施設の県移管に伴う清算）」を明記してください。
B14: Ⅱ. 歳入項目の用途・解説
B15: 歳入データは、貴機関が提供したサービスに対して利用者等から得た「自己収入（手数料や利用料等）」を把握し、「県全体で行政活動にかかった純粋な費用（全体の費用から自己収入を差し引いた額）」を計算するため、または国や他会計との資金のやり取りを把握するために使用します。
B16: 番号 | C16: 項目名 | D16: 該当する決算内容・具体例 | E16: 県の集計での用途 | F16: 記入上の注意点・添付資料
B17: 1200 | C17: 印紙収入 | D17: 収入印紙の売り上げによる収入。 | E17: 国の税収入として集計します。 | F17: 印紙税以外の各種手数料として受け取った分は「5306 許可及び手数料」へ記入してください。
B18: 3201 | C18: 病院収入 | D18: 国立病院・療養所等の診療収入、差額ベッド代等。 | E18: 医療サービスの提供に伴う直接収入として、全体の事業費から差し引いて計算します。 | F18: 自治体への移管等に伴う一時的な清算金が含まれる場合は事由を余白に明記してください。
B19: 4101 | C19: 国有財産処分収入 | D19: 国有地、庁舎、立木等の売却収入。 | E19: 土地の売却は「新たなモノの生産」ではないため計算から除外します。 | F19: 土地とその他の資産を分別するため、「うち土地売払代」の内訳を必ず正確に記入してください。
B20: 4203 | C20: 貸付金等回収金収入 | D20: 過去に貸し付けた資金の元本回収額。 | E20: 単なる資金の回収であり、年間の活動費用や収入とは区別して除外します。 | F20: 貸付元の元本回収額を記入してください。
B21: 5101 | C21: 国有財産貸付収入 | D21: 土地、建物、宿舎、機械等の貸付料。 | E21: 土地の賃貸料（地代）と、建物・機械の利用料（不動産・レンタル代）を区別して集計します。 | F21: 性格が異なるため、「うち土地及び水面」「うち建物及び物件」等の内訳を必ず記入してください。
B22: 5102 | C22: 国有財産使用収入 | D22: 著作権・特許使用料、宿泊料、施設等の入場料、空港施設使用料。 | E22: 施設や権利の利用対価として得た収入として集計します。 | F22: サービスの対価として受け取った使用料・入場料等を記入してください。
B23: 5103 | C23: 配当金収入 | D23: 保有株式・出資金等からの受取配当。 | E23: 資金運用によって得られた収入（利殖収入）として集計します。 | F23: 通常の事業活動による売上とは区別して処理します。
B24: 5104 | C24: 利子収入 | D24: 預金、貸付金等からの受取利息。 | E24: 資金運用によって得られた利息収入として集計します。 | F24: 金融機関との取引・金利の調整計算に使用します。
B25: 5203 | C25: 雑納付金 | D25: 法定納付金、受託事業に伴う一時的な受入金等。 | E25: その他の雑多な受入金として整理します。 | F25: 金額が大きい場合は、具体的な内容を余白に明記してください。
B26: 5303 | C26: 特別会計受入金 | D26: 他会計（食料安定、財政投融資、自動車安全、年金、エネ対等）からの繰入金。 | E26: 政府内部での資金の移動として、重複計算を防ぐために相殺処理します。 | F26: 組織改編等に伴う一時的な巨額受入がある場合は事由と金額を明記してください。
B27: 5304 | C27: 公共事業費負担金 | D27: 自治体等からの公共事業費の負担受入額。 | E27: 長野県内で行われた建設工事等の財源内訳として把握します。 | F27: 県内で実際に施工された事業であることをご確認ください。
B28: 5305 | C28: 授業料及び入学検定料 | D28: 国立学校・研修機関等の授業料、受講料、検定料。 | E28: 教育サービスの提供に伴う直接収入として、事業費から差し引いて計算します。 | F28: 受講生や学生から直接受け取った費用を記入してください。
... B35: 5399 | C35: 雑入 | D35: 保険料負担金、失業手当負担金、延滞金、職員給食費、その他の雑収入。 | E35: 収入の性質（手数料、社会保険関連、その他）に応じて細分化します。 | F35: 金額が大きい場合は「うち雑収入」の内容を空欄へ具体的にご記入ください。
B36: — | C36: その他の歳入 | D36: 上記のいずれにも該当しない独自の歳入項目。 | E36: 収入の内容を確認の上、適切なカテゴリーへ分類します。 | F36: 科目名と具体的な内容（〇〇負担金など）を空欄に直接ご記入ください。
B38: Ⅲ. 歳出項目の用途・解説
B39: 歳出データは、貴機関が行政サービスを提供するために使った「日常の経費（物件費など）」「職員の人件費」「施設や設備などの建築・購入費（公共投資・設備購入）」のそれぞれの金額を正しく把握するために使用します。
B40: 番号 | C40: 項目名 | D40: ① 該当する決算内容・具体例 | E40: ② 県の集計での使い道（なぜ必要か） | F40: ③ 記入上の注意点・添付資料
B41: 2 | C41: 職員基本給 | D41: 常勤職員の基本給（俸給）。 | E41: 貴機関の活動によって生み出された価値のうち**「人件費（給与分）」**として集計します。 | F41: 職員への労働対価の核心部分です。
B42: 3 | C42: 職員諸手当 | D42: 地域手当、扶養手当、住居手当、期末・勤勉手当等。 | E42: **「人件費（手当分）」**として基本給に合算します。 | F42: 職員に支払われた手当の総額を記入してください。
B43: 4 | C43: 超過勤務手当 | D43: 時間外勤務手当、休日勤務手当等。 | E43: **「人件費（手当分）」**として基本給に合算します。 | F43: 実績に基づいて支払われた手当額を記入してください。
B44: 5 | C44: 退職手当等計 | D44: 公務災害補償金、退職手当、児童手当、弔慰金等。 | E44: 人件費（退職金等）や、国から個人への支援金（給付金）に分けて集計します。 | F44: 組織改編等に伴う**「特別退職金（割増分等）」が含まれる場合は余白に金額を明記**してください。
B45: 6 | C45: 雑給与計 | D45: 非常勤手当、請謝金、社会扶助給付費、作業報奨金等。 | E45: 非常勤の人件費と、単なる支援金（給付金）を区別して集計します。 | F45: 見返りのない支援金（社会扶助）は人件費（事業費）から除くため、内訳を正確に記入してください。
B46: 7 | C46: 報償費・賞品費 | D46: 講師謝礼、各種協力者への謝礼、記念品購入費。 | E46: 外部への謝礼・業務経費（物件費）として集計します。 | F46: 業務協力への謝礼や購入費用を記入してください。
B47: 8 | C47: 旅費 | D47: 職員の出張旅費、赴任旅費、委員等の旅費。 | E47: 日常の行政活動を行うために必要な**「業務経費（物件費）」**として集計します。 | F47: 人事異動等に伴う引っ越し費用なども含めて記入してください。
B48: 9 | C48: 庁費計 | D48: 非常勤賃金、社会保険料（事業主負担）、損害保険料、賃借料、光熱水費、修繕費、自動車重量税、消耗品費等。 | E48: 貴機関が日常業務で消費した**「物件費・消耗品費」**や「人件費」「税金」に分解して集計します。 | F48: 建物の価値を高める大規模改修（建設費）は「13 施設費」へ記入し、ここには通常の維持修繕費のみ記入してください。
B49: 10 | C49: 原材料費 | D49: 直営工事や試験研究等で使用する材料・燃料費。 | E49: 製品やサービスを作り出すために使った**「消耗材料費」**として集計します。 | F49: その年度に実際に消費した材料費を記入してください。
...

Sheet Sheet1
A1: 表裏読み込み
A2: ・歳出の委託費を中間消費と総固定資本形成にきりわけするためには、この項目の内訳を知る必要があります。記入要領の記述案をご提示願います。別紙内訳資料提供依頼
A3: ・歳出の公共事業費についても中間消費と総固定資本形成に切り分けしたいのこちらも、うち補助金・負担金は自治体向け、民間向け、設備投資向けがあるのでその切り分けも識別可能な記述とする説明も
A4: ・歳出の14補助金・負担金・交付金の内訳についてうち民間・企業団体向けはあるがそれ以外、父タイ向け、施設整備向け追加してもよいか、それ以外があれば教示願う
A5: ・歳出の庁費のその他は中間消費以外にも総固定資本形成も含まれている可能性があるので内訳提供依頼※1千万以上なら⇢勝手な目安なので妥当額があれば御教示ください￥
A6: ・歳入-で雑入あれば内訳資料提供依頼
A7: ・歳出で雑支出あれば１千万以上で内訳提示依頼
A8: ※中間消費、総資本形成、経常移転がざっくり識別できるレベルでの内訳がわかればよいレベルであることを相手方がわかるように。構成比パーセンテージでよいことも
A12: 歳出項目の記入要領（更新案）
A13: 12 委託費
A14: お願いしたい内容： 通常の調査や事務の依頼だけでなく、システムの開発や設計、形に残るものを作るための委託費用が混ざっている場合があります。おおよその内容や、それぞれの割合（または金額）がわかる資料の添付をお願いします。
A15: お願いしたい内容： 日常的な消耗品などのほかに、建物や大きな物品の購入費用が含まれていることがあります。1件あたり1,000万円以上の支出がある場合は、その内容と金額がわかる内訳をお知らせください。
... A29: お願いしたい内容： 特殊な支出が含まれる場合、1件あたり1,000万円以上のものについて、何に使ったものか（おおよその割合も含めて）お知らせください。

Sheet 記入要領
B1: 記 入 要 領
B2: （財１）
B4: Ⅰ. 記入にあたっての共通事項
B5: ○一般、非企業特別の両会計がある場合は、会計ごとに別様式に記入してください。
B7: ○金額は、消費税込の金額を千円未満四捨五入して記入してください。
B9: ○長野県内分の金額が計上できない場合は、全管轄分の金額を記入し、「全管轄分」欄に”○”を記入してください。
B10: 県側で従業者数や面積などの割合を使って、長野県相当分を計算（按分）するために使用します。〇がないと管轄エリア全体の金額が長野県分として二重・過大に計算されてしまいます。
B13: 名称 | D13: 貴機関名（出先機関も含む）の名称を記入してください。
B14: 包括される出先機関等 | D14: 包括される下級機関がある場合に、その名称を記入してください。
B15: 会計区分 | D15: 該当会計の番号を○で囲み、非企業特別会計はその名称を記入してください。 [非企業特別会計] ・ 保険事業特別会計…地震再保険特別会計、年金特別会計（基礎年金勘定・国民年金勘定・厚生年金勘定・健康勘定・子ども子育て支援勘定・業務勘定）、労働保険特別会計（労災勘定・雇用勘定・徴収勘定） ・ 行政的事業特別会計…食料安定供給特別会計（農業経営安定勘定・食糧管理勘定・農業再保険勘定・漁船再保険勘定・漁業共済保険勘定・業務勘定・国営土地改良事業勘定）、特許特別会計、自動車安全特別会計（自動車事故対策勘定・自動車検査登録勘定・空港整備勘定） ・ 資金運用特別会計…財政投融資特別会計（財政融資資金勘定・投資勘定・特定国有財産整備勘定）、外国為替資金特別会計 ・ 整理区分特別会計… 交付税及び譲与税配付金特別会計、国債整理基金特別会計 ・ その他…エネルギー対策特別会計（エネルギー需給勘定・電源開発促進勘定・原子力損害賠償支援勘定）、東日本大震災復興特別会計
B16: 職員数 | D16: 常勤の一般職及び特別職の定員を記入してください。全管轄分（他県分を含む）と長野県内分について記入してください。決算額のうち全ての項目で長野県内分を記入できる場合は、全管轄分の職員数の記入は不要です。
B18: Ⅱ. 歳入項目の用途・解説
B19: 歳入データは、貴機関が提供したサービスに対して利用者等から得た自己収入（手数料や利用料等）を把握し、県全体で行政活動にかかった純粋な費用（全体の費用から自己収入を差し引いた額）を計算するため、または国や他会計との資金のやり取りを把握するために使用します。
B20: 番号 | C20: 項目名 | D20: 記入内容 | E20: 県の集計での用途 | F20: 記入上の注意点・添付資料
B21: 1200 | C21: 印紙収入 | D21: 収入印紙の売り上げによる収入。 | E21: 国の税収入として集計します。 | F21: 印紙税以外の各種手数料として受け取った分は「5306 許可及び手数料」へ記入してください。
B22: 3201 | C22: 病院収入 | D22: 国立病院・療養所等の診療収入、差額ベッド代等。 | E22: 医療サービスの提供に伴う直接収入として、全体の事業費から差し引いて計算します。 | F22: 自治体への移管等に伴う一時的な清算金が含まれる場合は事由を余白に明記してください。
B23: 4101 | C23: 国有財産処分収入 | D23: 国有地、庁舎、立木等の売却収入。 | E23: 土地の売却は新たなモノの生産ではないため計算から除外します。 | F23: 土地とその他の資産を分別するため、「うち土地売払代」の内訳を必ず正確に記入してください。
B24: 4203 | C24: 貸付金等回収金収入 | D24: 過去に貸し付けた資金の元本回収額。 | E24: 単なる資金の回収であり、年間の活動費用や収入とは区別して除外します。 | F24: 貸付元の元本回収額を記入してください。
B25: 5101 | C25: 国有財産貸付収入 | D25: 土地、建物、宿舎、機械等の貸付料。 | E25: 土地の賃貸料（地代）と、建物・機械の利用料（不動産・レンタル代）を区別して集計します。 | F25: 性格が異なるため、「うち土地及び水面」「うち建物及び物件」等の内訳を必ず記入してください。
B26: 5102 | C26: 国有財産使用収入 | D26: 著作権・特許使用料、宿泊料、施設等の入場料、空港施設使用料。 | E26: 施設や権利の利用対価として得た収入として集計します。 | F26: サービスの対価として受け取った使用料・入場料等を記入してください。
B27: 5103 | C27: 配当金収入 | D27: 保有株式・出資金等からの受取配当。 | E27: 資金運用によって得られた収入（利殖収入）として集計します。 | F27: 通常の事業活動による売上とは区別して処理します。
B28: 5104 | C28: 利子収入 | D28: 預金、貸付金等からの受取利息。 | E28: 資金運用によって得られた利息収入として集計します。 | F28: 金融機関との取引・金利の調整計算に使用します。
B29: 5203 | C29: 雑納付金 | D29: 法定納付金、受託事業に伴う一時的な受入金等。 | E29: その他の雑多な受入金として整理します。 | F29: 金額が大きい場合は、具体的な内容を余白に明記してください。
B30: 5303 | C30: 特別会計受入金 | D30: 他会計（食料安定、財政投融資、自動車安全、年金、エネ対等）からの繰入金。 | E30: 政府内部での資金の移動として、重複計算を防ぐために相殺処理します。 | F30: 組織改編等に伴う一時的な巨額受入がある場合は事由と金額を明記してください。
B31: 5304 | C31: 公共事業費負担金 | D31: 自治体等からの公共事業費の負担受入額。 | E31: 長野県内で行われた建設工事等の財源内訳として把握します。 | F31: 県内で実際に施工された事業であることをご確認ください。
B32: 5305 | C32: 授業料及び入学検定料 | D32: 国立学校・研修機関等の授業料、受講料、検定料。 | E32: 教育サービスの提供に伴う直接収入として、事業費から差し引いて計算します。 | F32: 受講生や学生から直接受け取った費用を記入してください。
... B39: 5399 | C39: 雑入 | D39: 保険料負担金、失業手当負担金、延滞金、職員給食費、その他の雑収入。 | E39: 収入の性質（手数料、社会保険関連、その他）に応じて細分化します。 | F39: 金額が大きい場合は「うち雑収入」の内容を空欄へ具体的にご記入ください。
B40: — | C40: その他の歳入 | D40: 上記のいずれにも該当しない独自の歳入項目。 | E40: 収入の内容を確認の上、適切なカテゴリーへ分類します。 | F40: 科目名と具体的な内容（〇〇負担金など）を空欄に直接ご記入ください。収入内容を識別しますので、事業名・内訳が明記された決算内訳資料を添付してください。
B42: Ⅲ. 歳出項目の用途・解説
B43: 歳出データは、貴機関が行政サービスを提供するために使った日常の経費（物件費など）、職員の人件費、施設や設備などの建築・購入費（公共投資・設備購入）のそれぞれの金額を正しく把握するために使用します。
B44: 番号 | C44: 項目名 | D44: 記入内容 | E44: 県の集計での用途 | F44: 記入上の注意点・添付資料
B45: 2 | C45: 職員基本給 | D45: 一般職及び特別職の定員職員に対する職員俸給、扶養手当、地域手当 | E45: 貴機関の活動によって生み出された価値のうち人件費（給与分）として集計します。 | F45: 職員への労働対価の核心部分です。
B46: 3 | C46: 職員諸手当 | D46: 一般職及び特別職の定員職員に対する管理職手当、初任給調整手当、通勤手当、特殊勤務手当、特地勤務手当、宿日直手当、期末手当、 勤勉手当、寒冷地手当、 住居手当、単身赴任手当、管一般職及び特別職の定員職員に対する理職員特別勤務手当、広域異動手当、専門スタッフ職調整手当、本府省業務調整手当、在宅勤務等手当、警備手当、国際平和協力手当、航空手当、乗組手当、落下傘隊員手当、特別警備隊員手当、特殊作戦隊員手当、航海手当、営外手当 | E46: 人件費（手当分）として基本給に合算します。 | F46: 職員に支払われた手当の総額を記入してください。
B47: 4 | C47: 超過勤務手当 | D47: 一般職及び特別職の定員職員に対する超過勤務手当、休日給及び夜勤手当。 | E47: 人件費（手当分）として基本給に合算します。 | F47: 実績に基づいて支払われた手当額を記入してください。
B48: 5 | C48: 退職手当等計 | D48: 公務災害補償金、退職手当、児童手当、弔慰金等。 | E48: 人件費（退職金等）や、国から個人への支援金（給付金）に分けて集計します。 | F48: 組織改編等に伴う特別退職金（割増分等）が含まれる場合は余白に金額を明記してください。
B49: 6 | C49: 雑給与計 | D49: 非常勤手当、請謝金、社会扶助給付費（留守家族等援護費、引揚者給与費、未帰還者特別措置費、戦傷病者特別援護費、船員離職者職業転換等給付）、資本移転給付（埋蔵文化財報償金、国宝重要文化財出陳給与金、協力援助者災害給付金、証人等被害給付金、犯罪被害給付金、被収容者作業死傷手当、職業補導死傷手当）、作業報奨金等。 | E49: 非常勤の人件費と、単なる支援金（給付金）を区別して集計します。 | F49: 見返りのない支援金（社会扶助）は人件費（事業費）から除くため、内訳を正確に記入してください。
B50: 7 | C50: 報償費・賞品費 | D50: 講師謝礼、各種協力者への謝礼、記念品購入費。 | E50: 外部への謝礼・業務経費（物件費）として集計します。 | F50: 業務協力への謝礼や購入費用を記入してください。
B51: 8 | C51: 旅費 | D51: 職員旅費（職員旅費、検査旅費、監査旅費、監督旅費、不服審査旅費、活動旅費、外国留学旅費、執行官旅費、募集等旅費、護送旅費、赴任旅費、赴任帰朝旅費、政府開発援助赴任帰朝旅費、航海日当食卓料） 委員等旅費（委員等旅費、講師等旅費） 特殊旅費（証人等旅費、参考人等旅費、被収容者旅費、帰住旅費）。 | E51: 日常の行政活動を行うために必要な業務経費（物件費）として集計します。 | F51: 人事異動等に伴う引っ越し費用なども含めて記入してください。
B52: 9 | C52: 庁費計 | D52: 非常勤賃金（事務補助等の単純労務に服する者（施設関係を除く）に対する賃金）、社会保険料（賃金欄の対象となる者に対する社会保険料事業主負担）、損害保険料（運送保険料、火災保険料、自動車損害賠償責任保険料等）、土地 ・建物賃借料、糧食費・被服費、修繕費・補修費、自動車重量税、教科書購入費、その他（備品費、消耗品費、印刷製本費、通信運搬費、光熱水料、借料及び損料（土地・建物以外）、雑役務費、自動車維持費、光熱水費、燃料費、職員厚生経費等）。 | E52: 貴機関が日常業務で消費した物件費・消耗品費や人件費、税金に分解して集計します。 | F52: 建物の価値を高める大規模改修（建設費）は「13 施設費」へ記入し、ここには日常の維持修繕費・経費のみご記入ください。その他経費は内容を分類しますので、事業名・内訳が明記された決算内訳資料を添付してください。
B53: 10 | C53: 原材料費 | D53: 直営工事や試験研究等で使用する材料・燃料費 | E53: 製品やサービスを作り出すために使った消耗材料費として集計します。 | F53: その年度に実際に消費した材料費を記入してください。
...

Sheet 転記用
A1: 事業所番号 | B1: 名称 | C1: 郵便番号 | D1: 住所 | E1: 電話番号 | F1: 包括機関等 | G1: 会計区分 | H1: 特別会計名称 | I1: 職員数 | J1: うち長野県内職員数 | K1: 担当部課名 | L1: 記入者氏名 | M1: 1200印紙収入 | N1: 3201病院収入 | O1: 4101国有財産処分収入 | P1: 410101うち土地売払代 | Q1: 410102うち立木竹売払代 | R1: 4203貸付金等回収金収入 | S1: 510100国有財産貸付収入 | T1: 510101うち土地及び水面貸付料 (除、国有資産所在市町村交付金) | U1: 510102うち建物及び物件貸付料 | V1: 510103うち公務員宿舎貸付料 | W1: 510104うち機械貸付料 | X1: 5102国有財産使用収入 | Y1: 510201うち版権・特許料収入 | Z1: 510202うち寄宿料 | AA1: 510203うち入場料等収入 | AB1: 510204うち飛行場及び航空保安施設使用料収入 | AC1: 5103配当金収入 | AD1: 5104利子収入 | AE1: 5203雑納付金 | AF1: 5303特別会計受入金（他会計受入金） | AG1: 530324食料安定供給特別会計受入金 | AH1: 530326財政投融資特別会計受入金 | AI1: 530327自動車安全特別会計受入金 | AJ1: 530328年金特別会計受入金 | AK1: 530330エネルギー対策特別会計受入金 | AL1: 5304公共事業費負担金 | AM1: 5305授業料及び入学検定料 | AN1: 5306許可及び手数料 | AO1: 5307受託調査試験及び役務収入 | AP1: 5308懲罰及び没収金 | AQ1: 5309弁償及び返納金 | AR1: 530901うち弁償及び違約金 | AS1: 5310矯正官署作業収入 | AT1: 5311物品売払収入 | AU1: 531101うち試験場製品等生産物売払収入 | AV1: 531102うち刊行物売払収入 | AW1: 531104うち不用物品売払収入 | AX1: 5399雑入 | AY1: 539901うち労働保険料被保険者負担金 | AZ1: 539902うち失業者退職手当特別会計等負担金 | BA1: 539903うち小切手支払未済金収入 | BB1: 539904うち延滞金及び追徴金 | BC1: 539905うち満期後収入 | BD1: 539907うち職員等給食費受入 | BE1: 539999うち雑収 | BF1: その他の歳入1 | BG1: その他の歳入2 | BH1: その他の歳入3 | BI1: その他の歳入4 | BJ1: その他の歳入5 | BK1: 歳入合計 | BL1: 02職員基本給 | BM1: 03職員諸手当 | BN1: 04超過勤務手当 | BO1: 0500退職手当等計 | BP1: 0501うち公務災害補償金 | BQ1: 0502うち退職手当 | BR1: 0503うち政府職員等失業者退職手当 | BS1: 0504うち児童手当 | BT1: 0505うち弔慰金・特別弔慰金 | BU1: 0506うちその他 （委員手当、非常勤職員手当、休職者給与等） | BV1: 0600雑給与計 | BW1: 0601うち諸謝金 | BX1: 0602うち社会扶助給付 （記入要領に例示） | BY1: 0603うち資本移転給付 （記入要領に例示） | BZ1: 0604うち被収容者作業報奨金、職業補導賞与金 | CA1: 0605うちその他 内容（） | CB1: 0700報償費 | CC1: 0701褒賞品費 | CD1: 08旅費 | CE1: 0900庁費計 | CF1: 0901うち賃金（非常勤職員等） | CG1: 0902うち社会保険料（非常勤職員等） | CH1: 0903うち損害保険料 | CI1: 0904うち土地・建物賃借料 | CJ1: 0905うち土地 | CK1: 0906うち建物 | CL1: 0907うち糧食費、被服費（防衛省） | CM1: 0908うち教科書購入費 | CN1: 0909うち引揚者援護費 | CO1: 0910うち修繕・補修費 | CP1: 0911うち建物・構築物に係るもの | CQ1: 0912うち自動車重量税 | CR1: 0913うちその他 （消耗品・備品・印刷製本・食糧費等） | CS1: 10原材料費 | CT1: 12委託費 | CU1: 1301施設費計 | CV1: 1302うち庁舎新設・改良費 | CW1: 1303うち住宅新設・改良費 | CX1: 1304うち不動産購入費 | CY1: 1305うち土地購入費 | CZ1: 1306うち無体財産権購入費 | DA1: 1307うちその他 （機械、航空機購入費等） | DB1: 1401補助金・負担金・交付金 | DC1: 1402うち企業・民間団体に対するもの | DD1: 1403名称 | DE1: 1404名称 | DF1: 1405名称 | DG1: 15交際費 | DH1: 16賠償・償還及び払戻金計 | DI1: 17保証金・予納金 | DJ1: 18補償金 | DK1: 1901恩給・年金等計 | DL1: 1902うち恩給費、遺族等年金 | DM1: 1903うち文化功労者年金 | DN1: 1904うち（特別）児童扶養手当 | DO1: 20貸付金・貸費生貸与金 | DP1: 21出資金 | DQ1: 22供託金利子 | DR1: 23他会計への繰入 | DS1: 2400公共事業費 | DT1: 2401うち長野県内分 | DU1: 2402うち用地費 | DV1: 2403うち補償費 | DW1: 2404うち補助金・負担金 | DX1: 2501その他の 歳出 | DY1: 2502その他の 歳出 | DZ1: 2503その他の 歳出 | EA1: 歳出合計 | EB1: 土地(m2) | EC1: 建物(m2) | ED1: うち公務員宿舎(m2)
A2: =財１表!L41 -> 0 | B2: =財１表!C6 | C2: =財１表!C7 -> (例)〇〇〇-〇〇〇〇 | D2: =財１表!C8 -> (例)〇〇県○○市xxx-xx | E2: =財１表!C9 -> 〇〇〇-〇〇-〇〇〇〇 電子メール（組織or所属） | F2: =財１表!C10 -> 0 | G2: =財１表!I6 -> 1. 一般会計 | H2: =財１表!I7 -> (例)○○特別会計 | I2: =財１表!I8 -> 0 | J2: =財１表!I9 -> 0 | K2: =財１表!I10 -> 0 | L2: =財１表!I11 -> 0 | M2: =IF(M4<>0,M3*M5,M3) -> 0 | N2: =IF(N4<>0,N3*N5,N3) -> 0 | O2: =IF(O4<>0,O3*O5,O3) -> 0 | P2: =IF(P4<>0,P3*P5,P3) -> 0 | Q2: =IF(Q4<>0,Q3*Q5,Q3) -> 0 | R2: =IF(R4<>0,R3*R5,R3) -> 0 | S2: =IF(S4<>0,S3*S5,S3) -> 0 | T2: =IF(T4<>0,T3*T5,T3) -> 0 | ... ED2: =IF(ED4<>0,ED3*ED5,ED3) -> 0
L3: 記入数字 | M3: =財１表!D15 -> 0 | N3: =財１表!D16 -> 0 | O3: =財１表!D17 -> 0 | P3: =財１表!D18 -> 0 | Q3: =財１表!D19 -> 0 | R3: =財１表!D20 -> 0 | S3: =財１表!D21 -> 0 | T3: =財１表!D22 -> 0 | U3: =財１表!D23 -> 0 | V3: =財１表!D24 -> 0 | W3: =財１表!D25 -> 0 | X3: =財１表!D26 -> 0 | Y3: =財１表!D27 -> 0 | Z3: =財１表!D28 -> 0 | AA3: =財１表!D29 -> 0 | AB3: =財１表!D30 -> 0 | AC3: =財１表!D31 -> 0 | AD3: =財１表!D32 -> 0 | AE3: =財１表!D33 -> 0 | AF3: =財１表!D34 -> 0 | AG3: =財１表!D35 -> 0 | AH3: =財１表!D36 -> 0 | AI3: =財１表!D37 -> 0 | AJ3: =財１表!D38 -> 0 | AK3: =財１表!D39 -> 0 | AL3: =財１表!D40 -> 0 | AM3: =財１表!D41 -> 0 | AN3: =財１表!K15 -> 0 | AO3: =財１表!K16 -> 0 | AP3: =財１表!K17 -> 0 | AQ3: =財１表!K18 -> 0 | AR3: =財１表!K19 -> 0 | AS3: =財１表!K20 -> 0 | AT3: =財１表!K21 -> 0 | AU3: =財１表!K22 -> 0 | AV3: =財１表!K23 -> 0 | AW3: =財１表!K24 -> 0 | AX3: =財１表!K25 -> 0 | AY3: =財１表!K26 -> 0 | AZ3: =財１表!K27 -> 0 | BA3: =財１表!K28 -> 0 | BB3: =財１表!K29 -> 0 | BC3: =財１表!K30 -> 0 | BD3: =財１表!K31 -> 0 | BE3: =財１表!K32 -> 0 | BF3: =財１表!K33 -> 0 | BG3: =財１表!K34 -> 0 | BH3: =財１表!K35 -> 0 | BI3: =財１表!K36 -> 0 | BJ3: =財１表!K37 -> 0 | BK3: =財１表!K38 -> 0 | BL3: =財１裏!F3 -> 0 | BM3: =財１裏!F4 -> 0 | BN3: =財１裏!F5 -> 0 | BO3: =財１裏!F6 -> 0 | BP3: =財１裏!F7 -> 0 | BQ3: =財１裏!F8 -> 0 | BR3: =財１裏!F9 -> 0 | BS3: =財１裏!F10 -> 0 | BT3: =財１裏!F11 -> 0 | BU3: =財１裏!F12 -> 0 | BV3: =財１裏!F13 -> 0 | BW3: =財１裏!F14 -> 0 | BX3: =財１裏!F15 -> 0 | BY3: =財１裏!F16 -> 0 | BZ3: =財１裏!F17 -> 0 | CA3: =財１裏!F18 -> 0 | CB3: =財１裏!F19 -> 0 | CC3: =財１裏!F20 -> 0 | CD3: =財１裏!F21 -> 0 | CE3: =財１裏!F22 -> 0 | CF3: =財１裏!F23 -> 0 | CG3: =財１裏!F24 -> 0 | CH3: =財１裏!F25 -> 0 | CI3: =財１裏!F26 -> 0 | CJ3: =財１裏!F27 -> 0 | CK3: =財１裏!F28 -> 0 | CL3: =財１裏!F29 -> 0 | CM3: =財１裏!F30 -> 0 | CN3: =財１裏!F31 -> 0 | CO3: =財１裏!F32 -> 0 | CP3: =財１裏!F33 -> 0 | CQ3: =財１裏!F34 -> 0 | CR3: =財１裏!F35 -> 0 | CS3: =財１裏!F36 -> 0 | CT3: =財１裏!N3 -> 0 | CU3: =財１裏!N4 -> 0 | CV3: =財１裏!N5 -> 0 | CW3: =財１裏!N6 -> 0 | CX3: =財１裏!N7 -> 0 | CY3: =財１裏!N8 -> 0 | CZ3: =財１裏!N9 -> 0 | DA3: =財１裏!N10 -> 0 | DB3: =財１裏!N11 -> 0 | DC3: =財１裏!N12 -> 0 | DD3: =財１裏!N13 -> 0 | DE3: =財１裏!N14 -> 0 | DF3: =財１裏!N15 -> 0 | DG3: =財１裏!N16 -> 0 | DH3: =財１裏!N17 -> 0 | DI3: =財１裏!N18 -> 0 | DJ3: =財１裏!N19 -> 0 | DK3: =財１裏!N20 -> 0 | DL3: =財１裏!N21 -> 0 | DM3: =財１裏!N22 -> 0 | DN3: =財１裏!N23 -> 0 | DO3: =財１裏!N24 -> 0 | DP3: =財１裏!N25 -> 0 | DQ3: =財１裏!N26 -> 0 | DR3: =財１裏!N27 -> 0 | DS3: =財１裏!N28 -> 0 | DT3: =財１裏!N29 -> 0 | DU3: =財１裏!N30 -> 0 | DV3: =財１裏!N31 -> 0 | DW3: =財１裏!N32 -> 0 | DX3: =財１裏!N33 -> 0 | DY3: =財１裏!N34 -> 0 | DZ3: =財１裏!N35 -> 0 | EA3: =財１裏!N36 -> 0 | EB3: =財１裏!F40 -> 0 | EC3: =財１裏!F41 -> 0 | ED3: =財１裏!F42 -> 0
L4: 全管轄判定 | M4: =財１表!E15 -> 0 | N4: =財１表!E16 -> 0 | O4: =財１表!E17 -> 0 | P4: =財１表!E18 -> 0 | Q4: =財１表!E19 -> 0 | R4: =財１表!E20 -> 0 | S4: =財１表!E21 -> 0 | T4: =財１表!E22 -> 0 | U4: =財１表!E23 -> 0 | V4: =財１表!E24 -> 0 | W4: =財１表!E25 -> 0 | X4: =財１表!E26 -> 0 | Y4: =財１表!E27 -> 0 | Z4: =財１表!E28 -> 0 | AA4: =財１表!E29 -> 0 | AB4: =財１表!E30 -> 0 | AC4: =財１表!E31 -> 0 | AD4: =財１表!E32 -> 0 | AE4: =財１表!E33 -> 0 | AF4: =財１表!E34 -> 0 | AG4: =財１表!E35 -> 0 | AH4: =財１表!E36 -> 0 | AI4: =財１表!E37 -> 0 | AJ4: =財１表!E38 -> 0 | AK4: =財１表!E39 -> 0 | AL4: =財１表!E40 -> 0 | AM4: =財１表!E41 -> 0 | AN4: =財１表!L15 -> 0 | AO4: =財１表!L16 -> 0 | AP4: =財１表!L17 -> 0 | AQ4: =財１表!L18 -> 0 | AR4: =財１表!L19 -> 0 | AS4: =財１表!L20 -> 0 | AT4: =財１表!L21 -> 0 | AU4: =財１表!L22 -> 0 | AV4: =財１表!L23 -> 0 | AW4: =財１表!L24 -> 0 | AX4: =財１表!L25 -> 0 | AY4: =財１表!L26 -> 0 | AZ4: =財１表!L27 -> 0 | BA4: =財１表!L28 -> 0 | BB4: =財１表!L29 -> 0 | BC4: =財１表!L30 -> 0 | BD4: =財１表!L31 -> 0 | BE4: =財１表!L32 -> 0 | BF4: =財１表!L33 -> 0 | BG4: =財１表!L34 -> 0 | BH4: =財１表!L35 -> 0 | BI4: =財１表!L36 -> 0 | BJ4: =財１表!L37 -> 0 | BK4: =財１表!L38 -> 0 | BL4: =財１裏!G3 -> 0 | BM4: =財１裏!G4 -> 0 | BN4: =財１裏!G5 -> 0 | BO4: =財１裏!G6 -> 0 | BP4: =財１裏!G7 -> 0 | BQ4: =財１裏!G8 -> 0 | BR4: =財１裏!G9 -> 0 | BS4: =財１裏!G10 -> 0 | BT4: =財１裏!G11 -> 0 | BU4: =財１裏!G12 -> 0 | BV4: =財１裏!G13 -> 0 | BW4: =財１裏!G14 -> 0 | BX4: =財１裏!G15 -> 0 | BY4: =財１裏!G16 -> 0 | BZ4: =財１裏!G17 -> 0 | CA4: =財１裏!G18 -> 0 | CB4: =財１裏!G19 -> 0 | CC4: =財１裏!G20 -> 0 | CD4: =財１裏!G21 -> 0 | CE4: =財１裏!G22 -> 0 | CF4: =財１裏!G23 -> 0 | CG4: =財１裏!G24 -> 0 | CH4: =財１裏!G25 -> 0 | CI4: =財１裏!G26 -> 0 | CJ4: =財１裏!G27 -> 0 | CK4: =財１裏!G28 -> 0 | CL4: =財１裏!G29 -> 0 | CM4: =財１裏!G30 -> 0 | CN4: =財１裏!G31 -> 0 | CO4: =財１裏!G32 -> 0 | CP4: =財１裏!G33 -> 0 | CQ4: =財１裏!G34 -> 0 | CR4: =財１裏!G35 -> 0 | CS4: =財１裏!G36 -> 0 | CT4: =財１裏!O3 -> 0 | CU4: =財１裏!O4 -> 0 | CV4: =財１裏!O5 -> 0 | CW4: =財１裏!O6 -> 0 | CX4: =財１裏!O7 -> 0 | CY4: =財１裏!O8 -> 0 | CZ4: =財１裏!O9 -> 0 | DA4: =財１裏!O10 -> 0 | DB4: =財１裏!O11 -> 0 | DC4: =財１裏!O12 -> 0 | DD4: =財１裏!O13 -> 0 | DE4: =財１裏!O14 -> 0 | DF4: =財１裏!O15 -> 0 | DG4: =財１裏!O16 -> 0 | DH4: =財１裏!O17 -> 0 | DI4: =財１裏!O18 -> 0 | DJ4: =財１裏!O19 -> 0 | DK4: =財１裏!O20 -> 0 | DL4: =財１裏!O21 -> 0 | DM4: =財１裏!O22 -> 0 | DN4: =財１裏!O23 -> 0 | DO4: =財１裏!O24 -> 0 | DP4: =財１裏!O25 -> 0 | DQ4: =財１裏!O26 -> 0 | DR4: =財１裏!O27 -> 0 | DS4: =財１裏!O28 -> 0 | DT4: =財１裏!O29 -> 0 | DU4: =財１裏!O30 -> 0 | DV4: =財１裏!O31 -> 0 | DW4: =財１裏!O32 -> 0 | DX4: =財１裏!O33 -> 0 | DY4: =財１裏!O34 -> 0 | DZ4: =財１裏!O35 -> 0 | EA4: =財１裏!O36 -> 0
L5: 管轄按分割合 | M5: =$J$2/$I$2 -> #DIV/0! | N5: =$J$2/$I$2 -> #DIV/0! | O5: =$J$2/$I$2 -> #DIV/0! | P5: =$J$2/$I$2 -> #DIV/0! | Q5: =$J$2/$I$2 -> #DIV/0! | R5: =$J$2/$I$2 -> #DIV/0! | S5: =$J$2/$I$2 -> #DIV/0! | T5: =$J$2/$I$2 -> #DIV/0! | ... EA5: =$J$2/$I$2 -> #DIV/0!
L7: ↑全管轄判定で〇となっているものは、管轄按分割合で乗じる（=2行目）
A10: コントロール用
A11: 年度変更
A12: 令和７年度 | B12: ←調査対象は何年度？（入力）
