Workbook
Name 協働化・大規模化: 基本情報入力シート!$J$58
Name 経営改善: 基本情報入力シート!$J$56
Name 研修体制: 基本情報入力シート!$J$50
Name 広報活動: 基本情報入力シート!$J$59
Name 採用活動: 基本情報入力シート!$J$51
Name 常勤化促進: 基本情報入力シート!$J$57
Name 同行支援: 基本情報入力シート!$J$52

Sheet はじめにお読みください
B2: 実績報告作成にあたっての留意事項
B3: ・本ファイルは、訪問介護等サービス提供体制確保支援事業補助金の実績報告を行うにあたって、提出が必要な様式を一つにまとめたものです。
B4: ・実績報告は、本ファイルのほかに事業の実施が分かる書類（請求書、領収書等支出証拠書類等）の提出が必要です。 なお、事業の実施が分かる書類の提出方法については、ながの電子申請サービスの提出フォームに記載の説明を十分ご確認ください。
B6: ・報告様式等の作成にあたっては、交付要綱を十分ご確認の上、作成してください。
B7: ・実績報告の提出期限は、令和８年１月30日（金）までです。
B8: ・内容は青いセルに入力してください。ピンク色のセルは自動反映セルですので入力は不要です。
B9: ・自動反映されたセルについても内容が正しいか必ずご確認ください。（様式第11号、第12号はすべての項目が自動反映です。）
B10: ・報告様式等の作成にあたっては、必ず目次の順番に作成してください。
B11: ・報告様式の記載内容誤りが多くなっております。記載内容や内容の相違がないようご確認ください。
B13: 目次
B14: 様式名 | E14: 入力順 | F14: シート名 | I14: 転記先シート
B15: 参考様式-共通 | E15: 1 | F15: 参考様式-共通 | I15: 実績報告書（様式第11号）
B16: 参考様式-（1_ア）研修体制 | E16: 2 | F16: 参考様式-（1_ア）研修体制 | I16: 所要額調書（様式第12号）
B18: 参考様式_（1_ウ）同行支援 | E18: 3 | F18: 参考様式_（1_ウ）同行支援 | I18: 事業実績報告書（様式第13号表）
B20: 参考様式-（2_ア）常勤化 | E20: 4 | F20: 参考様式-（2_ア）常勤化 | I20: 所要額調書（様式第12号）
B22: 参考様式-（2_イ）協働化 | E22: 5 | F22: 参考様式-（2_イ）協働化
I23: 事業実績報告書（様式第13号裏）
B24: 参考様式-（2_ウ）広報活動 | E24: 6 | F24: 参考様式-（2_ウ）広報活動
B26: 実績報告書（様式第11号） ※すべての項目が自動反映されます。 | E26: 7 | F26: 実績報告書（様式第11号） | I26: 参考様式-共通
B28: 所要額調書（様式第12号） ※すべての項目が自動反映されます。 | E28: 8 | F28: 所要額調書（様式第12号） | I28: 参考様式-（1_ア）研修体制
I29: 参考様式_（1_ウ）同行支援
I30: 参考様式-（2_ア）常勤化
I31: 参考様式-（2_イ）協働化
I32: 参考様式-（2_ウ）広報活動
B33: 事業実績報告書（様式第13号表） | E33: 9 | F33: 事業実績報告書（様式第13号表） | I33: 参考様式-（1_ア）研修体制
I34: 参考様式_（1_ウ）同行支援
B35: 事業実績報告書（様式第13号裏） | E35: 10 | F35: 事業実績報告書（様式第13号裏） | I35: 参考様式-（2_ア）常勤化
I36: 参考様式-（2_イ）協働化
I37: 参考様式-（2_ウ）広報活動
B38: 歳入歳出決算（見込）書の抄本 | E38: 11 | F38: 歳入歳出決算（見込）書の抄本 | I38: 実績報告書（様式第11号）
I39: 所要額調書（様式第12号）

Sheet 目次
B2: 計画書（訪問介護等サービス提供体制確保支援事業）目次
B4: ●各シート名をクリックすると該当のシートへ移動できます。
B5: ●作成に当たっては、必ずシートの順番に作成してください。
B6: ●【確認用シート（入力不要）】については、入力不要ですが、内容は必ずご確認ください。
B8: シート名
B9: 基本情報入力シート
B10: 1-（ア）研修体制
B11: 1-（イ）採用活動
B12: 1-（ウ）同行支援
B13: 2-（ア）経営改善
B14: 2-（イ）常勤化
B15: 2-（ウ）協働化
... B26: 様式第４号_交付申請書

Sheet 基本情報入力シート
A2: 計画書（訪問介護等サービス提供体制確保支援事業補助金） | AY2: 目次に戻る
A3: 基本情報入力シート
B5: ● | C5: はじめに本シート（基本情報入力シート）の青色セルに入力することで、申請法人等に関する基本的な情報が、各シートに自動的に転記されます。
B6: ● | C6: 自動転記の仕組みを活用するため、シートの順番に基づき入力し、シートを完成させてください。
B8: 【留意事項】
B9: ① | C9: 本計画書は、「訪問介護等サービス提供体制確保支援事業補助金」を申請するにあたって提出が必要な様式を一つにまとめたものです。
B10: ② | C10: 計画書の作成にあたっては、県ホームページ及び本補助金の交付要綱を十分ご確認の上、作成してください。
B11: ③ | C11: 申請内容は、青色セルに入力してください。ピンク色セルは入力不要（自動反映）です。なお、自動反映の内容についても必ずご確認ください。
B12: ④ | C12: 申請様式の記載内容誤りが大変多くなっております。記載内容誤りについては、十分ご留意ください。
B13: ⑤ | C13: 計画書の提出期限は、令和８年10月30日（金）までです。期限を過ぎてからの申請は一切お受付できませんのでご留意ください。
B15: １．申請法人にかかる基本情報
B16: 下記に必要事項を入力してください。記載内容が各様式に反映されます。
B17: 法人情報
B18: 法人名 | F18: フリガナ | J18: カブシキガイシャ ○○ケアサービス | AY18: ⇐全角カタカナで入力してください。
F19: 名称 | J19: 株式会社 ◇◇ケアサービス
B20: 法人住所 | F20: 郵便番号 | J20: ○○〇 | M20: - | N20: 〇〇〇〇 | R20: ※半角数字で入力してください。
F21: 住所１ | J21: 長野県△△市□□□1-1
F22: 番地まで
F23: 住所２ | J23: ☆☆ビル １階
F24: 建物名等
B25: 法人代表者 | F25: 職名 | J25: 代表取締役
F26: 氏名 | J26: 長野 太郎
B28: 事業所情報
B29: サービス種別 | J29: 訪問介護 | AY29: ⇐指定を受けているサービスをプルダウンから選択してください。
B30: 介護保険事業所番号 | J30: 2011111111 | AY30: ⇐20から始まる事業所番号を入力してください。
B31: 事業所名 | F31: フリガナ | J31: ヘルパーステーション ◇◇ケアサービス | AY31: ⇐全角カタカナで入力してください。
F32: 名称 | J32: ヘルパーステーション ◇◇ケアサービス
B33: 事業所住所 | F33: 郵便番号 | J33: 〇○○ | M33: - | N33: ○○〇〇 | R33: ※半角数字で入力してください。
F34: 住所１ | J34: 長野県△△市□□□1-1
F35: 番地まで
F36: 住所２
F37: 建物名等
B38: 様式作成 担当者 | F38: フリガナ | J38: ナガノ ハナコ
F39: 氏名 | J39: 長野 花子
F40: 電話① | J40: 026 | M40: - | N40: 000 | Q40: - | R40: 0000 | U40: ※半角数字で入力してください。 | AY40: ⇐日中に連絡がつく番号を入力してください。（申請内容について、県からお電話する場合がございます。）
F41: 電話② | J41: 080 | M41: - | N41: 0000 | Q41: - | R41: 0000 | U41: ※半角数字で入力してください。
F42: E-Mail | J42: kaigo-shien-s@pref.nagano.lg.jp
B43: 概算払の希望 | J43: 希望する | AY43: ⇐概算払の希望についてプルダウンから選択してください。（希望しない場合は「希望しない」を選択してください。）
B44: 中山間地域に所在 | J44: 該当 | R44: 離島等地域に所在 | Z44: 非該当 | AG44: 月の延べ訪問回数200回以下 | AQ44: 該当 | AY44: ⇐事業所の状況についてプルダウンから選択してください。（該当しない場合は非該当を選択してください）
B46: ２.申請内容にかかる情報（自動計算）
...

Sheet 参考様式-共通 
A2: （参考様式-共通） | G2: =IF(LEN(E2)=0,"⇐日付を忘れずに入力してください。","") -> ⇐日付を忘れずに入力してください。
H3: 各様式に進む
A4: 訪問介護等サービス提供体制確保支援事業補助金実績報告 参考様式 | H4: 実績報告書（様式第11号）
H5: 所要額調書（様式第12号）
A6: 申請に係る基本情報 | H6: 事業実績報告書（様式第13号表）
A7: 法人情報 | H7: 事業実績報告書（様式第13号裏）
A8: 法人名称
A9: 法人郵便番号 | G9: =IF(LEN(B9)=0,"⇐半角数字（ハイフンあり）で入力してください。","") -> ⇐半角数字（ハイフンあり）で入力してください。
A10: 法人住所
A11: 法人代表者 職・氏名 | G11: =IF(LEN(B11)=0,"⇐記入例：代表取締役・甲野太郎","") -> ⇐記入例：代表取締役・甲野太郎
A12: 交付決定額 | G12: =IF(LEN(B12)=0,"⇐11月に郵送にてお送りした交付決定通知をご確認ください。","") -> ⇐11月に郵送にてお送りした交付決定通知をご確認ください。
A14: 事業所情報
A15: 事業所番号 | G15: =IF(LEN(B15)=0,"⇐20から始まる10桁の番号を入力してください。","") -> ⇐20から始まる10桁の番号を入力してください。
A16: 事業所名称
A17: サービス種別 | G17: =IF(LEN(B17)=0,"⇐サービス種別を選択してください。","") -> ⇐サービス種別を選択してください。
A18: 事業所住所
A20: 担当者名
A21: 担当者電話番号 | G21: =IF(LEN(B21)=0,"⇐日中連絡がつく電話番号を半角数字（ハイフンあり）でご入力ください。","") -> ⇐日中連絡がつく電話番号を半角数字（ハイフンあり）でご入力ください。
A22: 担当者メールアドレス
A23: 中山間地域 | C23: （中山間地域の該当の有無についてはこちらをご確認ください。）
A24: 月の延べ訪問回数200回以下 | C24: （中山間地域に該当しない場合は非該当を選択してください。）
A26: 実施事業（自動計算） 実績報告書（様式11号）の実績額及び所要額清算書（様式12号）の額と必ず一致させてください。 | J26: 研修体制の構築 | L26: 同行支援
A27: （１）人材確保体制構築 | B27: 実施 | C27: 総事業費 | D27: 寄付金 その他の収入額 | E27: 基準額 | F27: 補助額 | I27: 補助上限（基準）額 | J27: =#REF! -> #REF!
A28: （ア）研修体制の構築 | B28: =IF(C28>0,"○","") -> #REF! | C28: =J28 -> #REF! | D28: =J30 -> #REF! | E28: 100000 | F28: =J29 -> #REF! | G28: 入力シート（1_ア）へ | I28: 総事業費 | J28: =#REF! -> #REF! | L28: =#REF! -> #REF!
A29: （イ）採用活動 | B29: =IF(C29>0,"○","") | C29: 0 | D29: =K30 -> 0 | E29: 0 | F29: 0 | I29: 補助額 | J29: =#REF! -> #REF! | L29: =#REF! -> #REF!
A30: （ウ）同行支援 | B30: =IF(C30>0,"○","") -> #REF! | C30: =L28 -> #REF! | D30: =L30 -> #REF! | F30: =L29 -> #REF! | G30: 入力シート（1_ウ）へ | I30: 自己資金等 | J30: =#REF! -> #REF! | L30: =#REF! -> #REF!
J32: 常勤化促進 | K32: 協働化・大規模化 | L32: 広報活動
A33: （２）経営改善 | B33: 実施 | C33: 総事業費 | D33: 寄付金 その他の収入額 | E33: 基準額 | F33: 補助額 | I33: 補助上限（基準）額 | J33: =#REF! -> #REF! | K33: =#REF! -> #REF! | L33: =#REF! -> #REF!
A34: （ア）常勤化促進 | B34: =IF(C34>0,"○","") -> #REF! | C34: =J34 -> #REF! | D34: =J36 -> #REF! | E34: =J33 -> #REF! | F34: =J35 -> #REF! | G34: 入力シート（2_ア）へ | I34: 総事業費 | J34: =#REF! -> #REF! | K34: =#REF! -> #REF! | L34: =#REF! -> #REF!
A35: （イ）協働化・大規模化 | B35: =IF(C35>0,"○","") -> #REF! | C35: =K34 -> #REF! | D35: =K36 -> #REF! | E35: =IF(B35="○",K33,"円") -> #REF! | F35: =K35 -> #REF! | G35: 入力シート（2_イ）へ | I35: 補助額 | J35: =#REF! -> #REF! | K35: =#REF! -> #REF! | L35: =#REF! -> #REF!
A36: （ウ）広報活動 | B36: =IF(C36>0,"○","") -> #REF! | C36: =L34 -> #REF! | D36: =L36 -> #REF! | E36: 300000 | F36: =L35 -> #REF! | G36: 入力シート（2_ウ）へ | I36: 自己資金等 | J36: =#REF! -> #REF! | K36: =#REF! -> #REF! | L36: =#REF! -> #REF!
A38: 実績額合計 | B38: =F28+F29+F30+F34+F35+F36 -> #REF!
A40: 参考様式作成にあたっての留意事項
A41: ・実績報告書（様式第13号）で記載する各実施事業について参考様式に必要事項を入力してください。
A42: ・青色に着色されている部分について、ご入力ください。（オレンジは自動計算）
A43: ・金額は全て千円未満を切り捨てて入力ください。
A44: ・実績報告書（様式第11号）の金額と、本様式におけるシートごとの補助合計額が一致するように作成してください。
A45: ・当補助金事業の補助対象は、実施通知を発出した令和7年5月12日以降に着手した事業が対象となります。

Sheet 1-（ア）研修体制
B2: 参考様式１-（ア）研修体制 | AU2: 事業所名 | BB2: =基本情報入力シート!J32 -> ヘルパーステーション ◇◇ケアサービス | BX2: 目次に戻る
AU3: 補助上限額 | BB3: =ROUNDDOWN(MIN(BB4,100000),-3) -> 25000 | BX3: ⇐千円未満切捨て
AU4: 総事業費 | BB4: =SUM(BO21,BO39,BO57) -> 25326
AU5: 補助予定額 | BB5: =MIN(ROUNDDOWN((BB4-BB6),-3),BB3) -> 25000 | BX5: ⇐千円未満切捨て
AU6: 自己資金等 | BB6: 326 | BX6: ⇐自己資金を含む場合、こちらに入力してください。
AU7: 事業実施予定期間 | BB7: 開始日 | BD7: 令和 | BF7: 8 | BG7: 年 | BH7: 11 | BI7: 月 | BJ7: 1 | BK7: 日 | BM7: 終了日 | BO7: 令和 | BQ7: 8 | BR7: 年 | BS7: 11 | BT7: 月 | BU7: 1 | BV7: 日 | BX7: ⇐各取組の事業実施期間のうち、最も早い日を開始日、最も遅い日を終了日としてください。
B9: 実施予定の事業内容の詳細
C11: 【取組１】
C13: 参加予定研修名 | J13: 【 | K13: 訪問介護基礎講座 | BV13: 】
C15: 研修内容 | J15: 【 | K15: 移乗や入浴介助等の訪問介護のサービス提供に必要な基礎的な技法を学ぶための研修 | BV15: 】
C16: ※事業所内研修を実施予定場合、実施機関名は、「事業所内研修を実施予定」とご記入ください。
C18: 事業実施予定期間 | K18: 開始日 | N18: ： | O18: 令和 | R18: 8 | S18: 年 | T18: 11 | U18: 月 | V18: 1 | W18: 日 | Y18: 終了日 | AB18: ： | AC18: 令和 | AF18: 8 | AG18: 年 | AH18: 11 | AI18: 月 | AJ18: 1 | AK18: 日
C20: 経費区分 | H20: 金額 | M20: 備考（支出内容詳細・積算根拠） | BO20: 取組１小計
C21: 受講料 | H21: 15000 | M21: 参加費 5,000×3人 | BO21: =SUM(H21:L25) -> 25326 | BU21: 円
C22: 旅費 | H22: 7326 | M22: 交通費 長野-松本間 往復2,442円×３人
C23: 報償費 | H23: 3000 | M23: 教材費 教科書代 1,000円×３人
C29: 【取組２】
C31: 参加予定研修名 | J31: 【 | BV31: 】
C33: 研修内容 | J33: 【 | BV33: 】
C34: ※事業所内研修を実施予定場合、実施機関名は、「事業所内研修を実施予定」とご記入ください。
C36: 事業実施予定期間 | K36: 開始日 | N36: ： | O36: 令和 | S36: 年 | U36: 月 | W36: 日 | Y36: 終了日 | AB36: ： | AC36: 令和 | AG36: 年 | AI36: 月 | AK36: 日
C38: 経費区分 | H38: 金額 | M38: 備考（支出内容詳細・積算根拠） | BO38: 取組２小計
BO39: =SUM(H39:L43) -> 0 | BU39: 円
C47: 【取組３】
C49: 参加予定研修名 | J49: 【 | BV49: 】
C51: 研修内容 | J51: 【 | BV51: 】
C52: ※事業所内研修を実施予定場合、実施機関名は、「事業所内研修を実施予定」とご記入ください。
C54: 事業実施予定期間 | K54: 開始日 | N54: ： | O54: 令和 | S54: 年 | U54: 月 | W54: 日 | Y54: 終了日 | AB54: ： | AC54: 令和 | AG54: 年 | AI54: 月 | AK54: 日
C56: 経費区分 | H56: 金額 | M56: 備考（支出内容詳細・積算根拠） | BO56: 取組３小計
BO57: =SUM(H57:L61) -> 0 | BU57: 円

Sheet 1-（イ）採用活動
B2: 参考様式１-（イ）採用活動 | BW2: 目次に戻る
AU3: 事業所名 | BB3: =基本情報入力シート!J32 -> ヘルパーステーション ◇◇ケアサービス
B4: 1．事業所の所在地に関する情報（自動反映） | AU4: 補助上限額 | BB4: =ROUNDDOWN(MIN(BB5,300000),-3) -> 71000 | BW4: ⇐千円未満切捨て
B5: =IF(基本情報入力シート!J44="該当","〇","") -> 〇 | D5: 事業所が「中山間地域」に所在 | AU5: 総事業費 | BB5: =SUM(BO21,BO38,BO55) -> 71000
AU6: 補助予定額 | BB6: =MIN(ROUNDDOWN((BB5-BB7),-3),BB4) -> 71000 | BW6: ⇐千円未満切捨て
B7: =IF(基本情報入力シート!Z44="該当","〇","") | D7: 事業所が「離島等地域」に所在 | AU7: 自己資金等 | BW7: ⇐自己資金を含む場合、こちらに入力してください。
AU8: 事業実施予定期間 | BB8: 開始日 | BD8: 令和 | BF8: 8 | BG8: 年 | BH8: 11 | BI8: 月 | BJ8: 20 | BK8: 日 | BM8: 終了日 | BO8: 令和 | BQ8: 8 | BR8: 年 | BS8: 11 | BT8: 月 | BU8: 22 | BV8: 日 | BW8: ⇐各取組の事業実施期間のうち、最も早い日を開始日、最も遅い日を終了日としてください。
B10: 2．実施予定の採用活動の概要
C12: 【取組１】
C14: 実施予定採用活動 | J14: 【 | K14: 訪問介護事業所就活フェア | BV14: 】
C16: 活動内容詳細 | J16: 【 | K16: 県内の介護事業所が集まる合同説明会へ２日間参加した | BV16: 】
C18: 事業実施予定期間 | K18: 開始日 | N18: ： | O18: 令和 | R18: 8 | S18: 年 | T18: 11 | U18: 月 | V18: 20 | W18: 日 | Y18: 終了日 | AB18: ： | AC18: 令和 | AF18: 8 | AG18: 年 | AH18: 11 | AI18: 月 | AJ18: 22 | AK18: 日 | BV18: 】
C20: 経費区分 | H20: 金額 | N20: 備考（支出内容詳細・積算根拠） | BO20: 取組１小計
C21: 旅費 | H21: 6000 | N21: 電車代 往復3,000円×３人 | BO21: =SUM(H21:M25) -> 71000 | BU21: 円
C22: 宿泊費 | H22: 60000 | N22: 採用担当者ホテル代 １泊10,000円×２日×３人
C23: 参加費・負担金 | H23: 5000 | N23: 就職フェアへの参加料 5,000円
C29: 【取組２】
C31: 実施予定採用活動 | J31: 【 | BV31: 】
C33: 活動内容詳細 | J33: 【 | BV33: 】
C35: 事業実施予定期間 | K35: 開始日 | N35: ： | O35: 令和 | S35: 年 | U35: 月 | W35: 日 | Y35: 終了日 | AB35: ： | AC35: 令和 | AG35: 年 | AI35: 月 | AK35: 日 | BV35: 】
C37: 経費区分 | H37: 金額 | N37: 備考（支出内容詳細・積算根拠） | BO37: 取組２小計
BO38: =SUM(H38:M42) -> 0 | BU38: 円
C46: 【取組３】
C48: 実施予定採用活動 | J48: 【 | BV48: 】
C50: 活動内容詳細 | J50: 【 | BV50: 】
C52: 事業実施予定期間 | K52: 開始日 | N52: ： | O52: 令和 | S52: 年 | U52: 月 | W52: 日 | Y52: 終了日 | AB52: ： | AC52: 令和 | AG52: 年 | AI52: 月 | AK52: 日 | BV52: 】
C54: 経費区分 | H54: 金額 | N54: 備考（支出内容詳細・積算根拠） | BO54: 取組３小計
BO55: =SUM(H55:M59) -> 0 | BU55: 円

Sheet 1-（ウ）同行支援
B2: 参考様式１-（ウ）同行支援 | AT2: 事業所名 | AZ2: =基本情報入力シート!J32 -> ヘルパーステーション ◇◇ケアサービス | BV2: 目次に戻る
B3: ●基本情報入力シートにおいて、中山間地域に「該当」または「非該当」を選択していない場合、補助単価は表示されません。 | AT3: 補助上限額 | AZ3: =ROUNDDOWN(AZ4,-3) -> 236000 | BV3: ⇐千円未満切捨て
B4: ●訪問時間が30分の場合は、１回あたりの訪問時間「30分以上」に該当します。 | AT4: 総事業費 | AZ4: =SUM(BN13,BN22,BN31,BN40,BN49,BN58) -> 236000
B5: ●同行したことが分かる書類（サービス提供記録及びシフト表）を必ず保管しておいてください。 | AT5: 補助予定額 | AZ5: =MIN(ROUNDDOWN(AZ4-AZ6,-3),AZ3) -> 236000 | BV5: ⇐千円未満切捨て
B6: ●同行する職員は、基本的にサービス提供責任者や管理者（訪問介護員の資格を有する者に限る）となります。 | AT6: 自己資金等 | BV6: ⇐自己資金を含む場合、こちらに入力してください。
B7: ●１人の被同行者に複数の同行者がいる場合は、それぞれの回数を記入してください。（同一の訪問についてはどちらかに計上） | AT7: 事業実施予定期間 | BA7: 開始日 | BC7: 令和 | BE7: 8 | BF7: 年 | BG7: 10 | BH7: 月 | BI7: 9 | BJ7: 日 | BL7: 終了日 | BN7: 令和 | BP7: 8 | BQ7: 年 | BR7: 12 | BS7: 月 | BT7: 31 | BU7: 日 | BV7: ⇐各職員の事業実施期間のうち、最も早い日を開始日、最も遅い日を終了日としてください。
B9: 同行支援詳細
B10: 1
C11: 被同行者名 | G11: （経験年数が短い訪問介護員等の名前） | S11: 【 | T11: 長野 太郎 | Z11: 】 | AB11: ヘルパー業務従事期間数 | AM11: 【 | AN11: 1か月 | AT11: 】 | AU11: １回当たりの 訪問時間 | AZ11: 補助単価 | BC11: 訪問予定回数 | BG11: 小計 | BN11: 合計
AU13: 30分未満 | AZ13: =IF(基本情報入力シート!J44="","",IF(基本情報入力シート!J44="該当",3500,2500)) -> 3500 | BC13: 12 | BG13: = | BI13: =AZ13*BC13 -> 42000 | BN13: =SUM(BI13,BI15) -> 92000
C14: 同行が必要な理由等 | J14: 【 | K14: 訪問介護の経験が無く、指導が必要なため | AT14: 】
AU15: 30分以上 | AZ15: =IF(基本情報入力シート!J44="","",IF(基本情報入力シート!J44="該当",5000,4000)) -> 5000 | BC15: 10 | BG15: = | BI15: =AZ15*BC15 -> 50000
C16: 同行実施予定期間 | J16: 開始日 | L16: 令和 | N16: 8 | O16: 年 | P16: 11 | Q16: 月 | R16: 9 | S16: 日 | U16: 終了日 | W16: 令和 | Y16: 8 | Z16: 年 | AA16: 12 | AB16: 月 | AC16: 31 | AD16: 日
B19: 2
C20: 被同行者名 | G20: （経験年数が長い訪問介護員等の名前） | S20: 【 | T20: 長野 花子 | Z20: 】 | AB20: ヘルパー業務従事期間数 | AM20: 【 | AN20: 3か月 | AT20: 】 | AU20: １回当たりの 訪問時間 | AZ20: 補助単価 | BC20: 訪問予定回数 | BG20: 小計 | BN20: 合計
AU22: 30分未満 | AZ22: =IF(基本情報入力シート!J44="","",IF(基本情報入力シート!J44="該当",3500,2500)) -> 3500 | BC22: 4 | BG22: = | BI22: =AZ22*BC22 -> 14000 | BN22: =SUM(BI22,BI24) -> 144000
C23: 同行が必要な理由等 | J23: 【 | K23: 長期間介護職から離れており、今年の７月から再度勤務するため | AT23: 】
AU24: 30分以上 | AZ24: =IF(基本情報入力シート!J44="","",IF(基本情報入力シート!J44="該当",5000,4000)) -> 5000 | BC24: 26 | BG24: = | BI24: =AZ24*BC24 -> 130000
C25: 同行実施予定期間 | J25: 開始日 | L25: 令和 | N25: 8 | O25: 年 | P25: 10 | Q25: 月 | R25: 9 | S25: 日 | U25: 終了日 | W25: 令和 | Y25: 8 | Z25: 年 | AA25: 11 | AB25: 月 | AC25: 27 | AD25: 日
B28: 3
C29: 被同行者名 | G29: （経験年数が短い訪問介護員等の名前） | S29: 【 | Z29: 】 | AB29: ヘルパー業務従事期間数 | AM29: 【 | AT29: 】 | AU29: １回当たりの 訪問時間 | AZ29: 補助単価 | BC29: 訪問予定回数 | BG29: 小計 | BN29: 合計
AU31: 30分未満 | AZ31: =IF(基本情報入力シート!J44="","",IF(基本情報入力シート!J44="該当",3500,2500)) -> 3500 | BG31: = | BI31: =AZ31*BC31 -> 0 | BN31: =SUM(BI31,BI33) -> 0
C32: 同行が必要な理由等 | J32: 【 | AT32: 】
AU33: 30分以上 | AZ33: =IF(基本情報入力シート!J44="","",IF(基本情報入力シート!J44="該当",5000,4000)) -> 5000 | BG33: = | BI33: =AZ33*BC33 -> 0
C34: 同行実施予定期間 | J34: 開始日 | L34: 令和 | O34: 年 | Q34: 月 | S34: 日 | U34: 終了日 | W34: 令和 | Z34: 年 | AB34: 月 | AD34: 日
B37: 4
C38: 被同行者名 | G38: （経験年数が短い訪問介護員等の名前） | S38: 【 | Z38: 】 | AB38: ヘルパー業務従事期間数 | AM38: 【 | AT38: 】 | AU38: １回当たりの 訪問時間 | AZ38: 補助単価 | BC38: 訪問予定回数 | BG38: 小計 | BN38: 合計
AU40: 30分未満 | AZ40: =IF(基本情報入力シート!J44="","",IF(基本情報入力シート!J44="該当",3500,2500)) -> 3500 | BG40: = | BI40: =AZ40*BC40 -> 0 | BN40: =SUM(BI40,BI42) -> 0
C41: 同行が必要な理由等 | J41: 【 | AT41: 】
AU42: 30分以上 | AZ42: =IF(基本情報入力シート!J44="","",IF(基本情報入力シート!J44="該当",5000,4000)) -> 5000 | BG42: = | BI42: =AZ42*BC42 -> 0
C43: 同行実施予定期間 | J43: 開始日 | L43: 令和 | O43: 年 | Q43: 月 | S43: 日 | U43: 終了日 | W43: 令和 | Z43: 年 | AB43: 月 | AD43: 日
B46: 5
C47: 被同行者名 | G47: （経験年数が短い訪問介護員等の名前） | S47: 【 | Z47: 】 | AB47: ヘルパー業務従事期間数 | AM47: 【 | AT47: 】 | AU47: １回当たりの 訪問時間 | AZ47: 補助単価 | BC47: 訪問予定回数 | BG47: 小計 | BN47: 合計
AU49: 30分未満 | AZ49: =IF(基本情報入力シート!J44="","",IF(基本情報入力シート!J44="該当",3500,2500)) -> 3500 | BG49: = | BI49: =AZ49*BC49 -> 0 | BN49: =SUM(BI49,BI51) -> 0
C50: 同行が必要な理由等 | J50: 【 | AT50: 】
AU51: 30分以上 | AZ51: =IF(基本情報入力シート!J44="","",IF(基本情報入力シート!J44="該当",5000,4000)) -> 5000 | BG51: = | BI51: =AZ51*BC51 -> 0
C52: 同行実施予定期間 | J52: 開始日 | L52: 令和 | O52: 年 | Q52: 月 | S52: 日 | U52: 終了日 | W52: 令和 | Z52: 年 | AB52: 月 | AD52: 日
B55: 6
C56: 被同行者名 | G56: （経験年数が短い訪問介護員等の名前） | S56: 【 | Z56: 】 | AB56: ヘルパー業務従事期間数 | AM56: 【 | AT56: 】 | AU56: １回当たりの 訪問時間 | AZ56: 補助単価 | BC56: 訪問予定回数 | BG56: 小計 | BN56: 合計
AU58: 30分未満 | AZ58: =IF(基本情報入力シート!J44="","",IF(基本情報入力シート!J44="該当",3500,2500)) -> 3500 | BG58: = | BI58: =AZ58*BC58 -> 0 | BN58: =SUM(BI58,BI60) -> 0
...

Sheet 2-（ア）経営改善
B2: 参考様式２-（ア）経営改善 | AV2: 事業所名 | BD2: =基本情報入力シート!J32 -> ヘルパーステーション ◇◇ケアサービス | CA2: 目次に戻る
AV3: 補助上限額 | BD3: =ROUNDDOWN(MIN(BD4,400000),-3) -> 300000 | CA3: ⇐千円未満切捨て
B4: 1．実施する事業内容（該当するものに✔） | AV4: 総事業費 | BD4: =SUM(BR38,BR54) -> 300000
B5: ✔ | D5: 経営改善の外部コンサルタントに委託を行う。 | AV5: 補助予定額 | BD5: =MIN(ROUNDDOWN(BD4-BD6,-3),BD3) -> 300000 | CA5: ⇐千円未満切捨て
AV6: 自己資金等 | CA6: ⇐自己資金を含む場合、こちらに入力してください。
D7: 事務作業等を行う臨時職員を雇用する。 | AV7: 事業実施予定期間 | BD7: 開始日 | BG7: 令和 | BI7: 8 | BJ7: 年 | BK7: 10 | BL7: 月 | BM7: 15 | BN7: 日 | BO7: 終了日 | BR7: 令和 | BT7: 8 | BU7: 年 | BV7: 12 | BW7: 月 | BX7: 31 | BY7: 日 | CA7: ⇐各取組の事業実施期間のうち、最も早い日を開始日、最も遅い日を終了日としてください。
B10: ２．現状・課題・目的 | J10: ※現在の経営上、運営上の課題、本事業で改善したい事項及び実施目的を簡潔に記載してください。
B11: 収益性改善のための適正な人員配置の検討と新規採用の強化
B14: ３．経営改善のコンサルタントに委託を行う場合のみ記入
B16: 委託予定事業所名 | J16: 【 | K16: 株式会社△△コンサルティング | BY16: 】
B18: 委託予定事業所住所 | J18: 【 | K18: 長野県☆☆市○○1-1 | BY18: 】
B21: ４．臨時職員を雇用する場合のみ記入
C23: 雇用期間 | H23: 開始日 | K23: 【 | L23: 令和 | O23: 年 | Q23: 月 | S23: 日 | T23: 】 | U23: 終了日 | X23: 【 | Y23: 令和 | AB23: 年 | AD23: 月 | AF23: 日 | AG23: 】
C25: 主な業務内容 | H25: 【 | BY25: 】
B28: ５．実施予定の事業内容の詳細 | N28: ※経費ごとに１行ずつ記入してください。
C30: 【取組１】
C31: 実施内容 | J31: 【 | K31: コンサルティング会社による事業所の経営改善 | BY31: 】
C33: 期待する効果 | J33: 【 | K33: 収益性の改善、新規採用の強化 | BY33: 】
C35: 事業実施予定期間 | K35: 開始日 | N35: ： | O35: 令和 | Q35: 8 | R35: 年 | S35: 10 | T35: 月 | U35: 15 | V35: 日 | X35: 終了日 | AA35: ： | AB35: 令和 | AE35: 8 | AF35: 年 | AG35: 12 | AH35: 月 | AI35: 31 | AJ35: 日
C37: 経費区分 | H37: 金額 | N37: 備考（支出内容詳細・積算根拠） | BR37: 取組１小計
C38: 専門家委託料 | H38: 300000 | N38: 経営コンサルティングによる経営改善計画の策定 300,000円 | BR38: =SUM(H38:M42) -> 300000 | BX38: 円
C46: 【取組２】
C47: 実施内容 | J47: 【 | BY47: 】
C49: 期待する効果 | J49: 【 | BY49: 】
C51: 事業実施予定期間 | K51: 開始日 | N51: ： | O51: 令和 | R51: 年 | T51: 月 | V51: 日 | X51: 終了日 | AA51: ： | AB51: 令和 | AF51: 年 | AH51: 月 | AJ51: 日
C53: 経費区分 | H53: 金額 | N53: 備考（支出内容詳細・積算根拠） | BR53: 取組２小計
BR54: =SUM(H54:M58) -> 0 | BX54: 円

Sheet 2-（イ）常勤化
B2: 参考様式2-（イ）常勤化支援 | AJ2: 事業所名 | AQ2: =基本情報入力シート!J32 -> ヘルパーステーション ◇◇ケアサービス | BM2: 目次に戻る
AJ3: 補助上限額 | AQ3: =ROUNDDOWN(MIN(COUNTA(H11,H19,H27,H35,H43,H51)*300000,AQ4),-3) -> 500000 | BM3: ⇐千円未満切捨て
AJ4: 総事業費 | AQ4: =SUM(BE14,BE22,BE30,BE38,BE46,BE54) -> 500000
AJ5: 補助予定額 | AQ5: =MIN(ROUNDDOWN((AQ4-AQ6),-3),AQ3) -> 500000 | BM5: ⇐千円未満切捨て
AJ6: 自己資金等 | BM6: ⇐自己資金を含む場合、こちらに入力してください。
AJ7: 事業実施予定期間 | AQ7: 開始日 | AS7: 令和 | AU7: 8 | AV7: 年 | AW7: 4 | AX7: 月 | AY7: 1 | AZ7: 日 | BB7: 終了日 | BD7: 令和 | BF7: 8 | BG7: 年 | BH7: 11 | BI7: 月 | BJ7: 30 | BK7: 日 | BM7: ⇐各職員の事業実施期間のうち、最も早い日を開始日、最も遅い日を終了日としてください。
B9: 常勤化詳細
B10: 1
D11: 職員名 | G11: 【 | H11: 長野 太郎 | N11: 】
D13: 1月あたりの給与（常勤化前） | S13: １月あたりの給与（常勤化後） | AH13: 1月あたりの差額 | AM13: 補助対象期間 | BE13: 補助予定額
D14: 基本給 | I14: 法定福利費 | N14: ①合計 | S14: 基本給 | X14: 法定福利費 | AC14: ②合計 | AH14: （②-①） | AM14: 開始日 | AU14: 終了日 | BC14: 月数 | BE14: =MIN(BC15*AH15,BC15*100000) -> 300000
D15: 100000 | N15: =SUM(D15,I15) -> 100000 | S15: 250000 | X15: 5000 | AC15: =SUM(S15,X15) -> 255000 | AH15: =AC15-N15 -> 155000 | AM15: 令和 | AO15: 8 | AP15: 年 | AQ15: 9 | AR15: 月 | AS15: 1 | AT15: 日 | AU15: 令和 | AW15: 8 | AX15: 年 | AY15: 11 | AZ15: 月 | BA15: 30 | BB15: 日 | BC15: 3
B18: 2
D19: 職員名 | G19: 【 | H19: 松本 花子 | N19: 】
D21: 常勤化前 | S21: 常勤化後 | AH21: 差額 | AM21: 補助対象期間 | BE21: 補助予定額
D22: 基本給 | I22: 法定福利費 | N22: ①合計 | S22: 基本給 | X22: 法定福利費 | AC22: ②合計 | AH22: （②-①） | AM22: 開始日 | AU22: 終了日 | BC22: 月数 | BE22: =MIN(BC23*AH23,BC23*100000) -> 200000
D23: 130000 | N23: =SUM(D23,I23) -> 130000 | S23: 230000 | X23: 3000 | AC23: =SUM(S23,X23) -> 233000 | AH23: =AC23-N23 -> 103000 | AM23: 令和 | AO23: 8 | AP23: 年 | AQ23: 4 | AR23: 月 | AS23: 1 | AT23: 日 | AU23: 令和 | AW23: 8 | AX23: 年 | AY23: 5 | AZ23: 月 | BA23: 31 | BB23: 日 | BC23: 2
B26: 3
D27: 職員名 | G27: 【 | N27: 】
D29: 常勤化前 | S29: 常勤化後 | AH29: 差額 | AM29: 補助対象期間 | BE29: 補助予定額
D30: 基本給 | I30: 法定福利費 | N30: ①合計 | S30: 基本給 | X30: 法定福利費 | AC30: ②合計 | AH30: （②-①） | AM30: 開始日 | AU30: 終了日 | BC30: 月数 | BE30: =MIN(BC31*AH31,BC31*100000) -> 0
N31: =SUM(D31,I31) -> 0 | AC31: =SUM(S31,X31) -> 0 | AH31: =AC31-N31 -> 0 | AM31: 令和 | AP31: 年 | AR31: 月 | AT31: 日 | AU31: 令和 | AX31: 年 | AZ31: 月 | BB31: 日
B34: 4
D35: 職員名 | G35: 【 | N35: 】
D37: 常勤化前 | S37: 常勤化後 | AH37: 差額 | AM37: 補助対象期間 | BE37: 補助予定額
D38: 基本給 | I38: 法定福利費 | N38: ①合計 | S38: 基本給 | X38: 法定福利費 | AC38: ②合計 | AH38: （②-①） | AM38: 開始日 | AU38: 終了日 | BC38: 月数 | BE38: =MIN(BC39*AH39,BC39*100000) -> 0
N39: =SUM(D39,I39) -> 0 | AC39: =SUM(S39,X39) -> 0 | AH39: =AC39-N39 -> 0 | AM39: 令和 | AP39: 年 | AR39: 月 | AT39: 日 | AU39: 令和 | AX39: 年 | AZ39: 月 | BB39: 日
B42: 5
D43: 職員名 | G43: 【 | N43: 】
D45: 常勤化前 | S45: 常勤化後 | AH45: 差額 | AM45: 補助対象期間 | BE45: 補助予定額
D46: 基本給 | I46: 法定福利費 | N46: ①合計 | S46: 基本給 | X46: 法定福利費 | AC46: ②合計 | AH46: （②-①） | AM46: 開始日 | AU46: 終了日 | BC46: 月数 | BE46: =MIN(BC47*AH47,BC47*100000) -> 0
N47: =SUM(D47,I47) -> 0 | AC47: =SUM(S47,X47) -> 0 | AH47: =AC47-N47 -> 0 | AM47: 令和 | AP47: 年 | AR47: 月 | AT47: 日 | AU47: 令和 | AX47: 年 | AZ47: 月 | BB47: 日
B50: 6
D51: 職員名 | G51: 【 | N51: 】
D53: 常勤化前 | S53: 常勤化後 | AH53: 差額 | AM53: 補助対象期間 | BE53: 補助予定額
D54: 基本給 | I54: 法定福利費 | N54: ①合計 | S54: 基本給 | X54: 法定福利費 | AC54: ②合計 | AH54: （②-①） | AM54: 開始日 | AU54: 終了日 | BC54: 月数 | BE54: =MIN(BC55*AH55,BC55*100000) -> 0
N55: =SUM(D55,I55) -> 0 | AC55: =SUM(S55,X55) -> 0 | AH55: =AC55-N55 -> 0 | AM55: 令和 | AP55: 年 | AR55: 月 | AT55: 日 | AU55: 令和 | AX55: 年 | AZ55: 月 | BB55: 日

Sheet 2-（ウ）協働化
B2: 参考様式２-（イ）協働化 | BP2: 目次に戻る
B3: 【対象経費の例】 | AO3: 事業所名 | AV3: =基本情報入力シート!J32 -> ヘルパーステーション ◇◇ケアサービス
B4: ●人材募集や一括採用、合同研修等の実施 | AO4: 補助上限額 | AV4: =ROUNDDOWN(MIN(IF(OR(BR47="〇",BR62="〇",BR76="〇",BR90="〇",BR104="〇",BR118="〇"),2000000,1500000),AV5),-3) -> 1500000 | BP4: ⇐千円未満切捨て
B5: ●従業者の職場定着や職場の魅力発信に資する取組 | AO5: 総事業費 | AV5: =BH17+BH30 -> 1500000
B6: ●人事管理や福利厚生、請求事務等のシステム共通化 | AO6: 補助予定額 | AV6: =MIN(ROUNDDOWN((AV5-AV7),-3),AV4) -> 1500000 | BP6: ⇐千円未満切捨て
B7: ●協働化等にあわせて行うICTインフラ整備 | AO7: 自己資金等 | BP7: ⇐自己資金を含む場合、こちらに入力してください。
B8: ●物品調達の合理化のための共同購入の取組 | AO8: 事業実施予定期間 | AV8: 開始日 | AX8: 令和 | AZ8: 8 | BA8: 年 | BB8: 11 | BC8: 月 | BD8: 1 | BE8: 日 | BF8: 終了日 | BH8: 令和 | BJ8: 8 | BK8: 年 | BL8: 12 | BM8: 月 | BN8: 31 | BO8: 日
B10: １．実施予定の事業に関する情報
B11: 取組１
D12: 実施予定事業 | J12: 【 | K12: 介護職員合同研修 | BO12: 】
D14: 実施予定事業詳細 | J14: 【 | K14: 介護職員に向けた基礎的な研修を合同で行う | BO14: 】
D16: 経費区分 | I16: 金額 | O16: 備考（支出内容詳細・積算根拠） | BH16: 取組１小計
D17: 受講費 | I17: 1500000 | O17: 合同研修参加費 750,000円×２事業所 | BH17: =SUM(I17:N21) -> 1500000 | BN17: 円
B24: 取組２
D25: 実施予定事業 | J25: 【 | BO25: 】
D27: 実施予定事業詳細 | J27: 【 | BO27: 】
D29: 経費区分 | I29: 金額 | O29: 備考（支出内容詳細・積算根拠） | BH29: 取組２小計
BH30: =SUM(I30:N34) -> 0 | BN30: 円
B37: ２．グループ代表（補助金申請者）に係る情報
C39: 法人名 | H39: 【 | I39: =基本情報入力シート!J19 -> 株式会社 ◇◇ケアサービス | AO39: 】 | AQ39: 介護事業所・施設数 | AZ39: 平均訪問回数（１か月あたり延回数） | BE39: 平均職員数 （常勤換算方法） | BJ39: 中山間地域に所在する事業所数
C41: 法人住所 | H41: 【 | I41: =基本情報入力シート!J21&" "&基本情報入力シート!J23 -> 長野県△△市□□□1-1 ☆☆ビル １階 | AO41: 】 | AQ41: 総数
AS42: うち訪問介護事業所
C43: 法人代表者名 | H43: 【 | I43: =基本情報入力シート!J26 -> 長野 太郎 | AO43: 】
AU44: うち長野県内
C45: 事業所名 | H45: 【 | I45: =基本情報入力シート!J32 -> ヘルパーステーション ◇◇ケアサービス | AO45: 】
AQ46: 3 | AS46: 2 | AU46: 2 | AZ46: 250 | BE46: 3 | BJ46: 1
C47: 事業所住所 | H47: 【 | I47: =基本情報入力シート!J34&" "&基本情報入力シート!J36 -> 長野県△△市□□□1-1 | AO47: 】 | BR47: =IF(AND(AU46<>"",BJ46<>"",EXACT(AU46,BJ46)),"〇","")
C49: 事業所番号 | H49: 【 | I49: =基本情報入力シート!J30 -> 2011111111 | AO49: 】
B52: ３．グループ構成法人に係る情報
B53: 1
D54: 法人名 | I54: 【 | J54: 合同会社 □□ライフ | AO54: 】 | AQ54: 介護事業所・施設数 | AZ54: 平均訪問回数（１か月あたり延回数） | BE54: 平均職員数 （常勤換算方法） | BJ54: 中山間地域に所在する事業所数
D56: 法人住所 | I56: 【 | J56: 長野県上田市○○1-1 | AO56: 】 | AQ56: 総数
AS57: うち訪問介護事業所
D58: 法人代表者名 | I58: 【 | J58: 上田 花子 | AO58: 】
AU59: うち長野県内
D60: 事業所名 | I60: 【 | J60: □□訪問介護事業所 | AO60: 】
AQ61: 1 | AS61: 1 | AU61: 1 | AZ61: 100 | BE61: 2.8 | BJ61: 1
D62: 事業所住所 | I62: 【 | J62: 長野県上田市○○1-1 | AO62: 】 | BR62: =IF(AND(AU61<>"",BJ61<>"",EXACT(AU61,BJ61)),"〇","") -> 〇
D64: 事業所番号 | I64: 【 | J64: 2022222222 | AO64: 】
B67: 2
...

Sheet 2-（エ）広報活動
B2: 参考様式２-（エ）広報活動 | AU2: 事業所名 | BB2: =基本情報入力シート!J32 -> ヘルパーステーション ◇◇ケアサービス | BX2: 目次に戻る
AU3: 補助上限額 | BB3: =ROUNDDOWN(MIN(BB4,300000),-3) -> 124000 | BX3: ⇐千円未満切捨て
AU4: 総事業費 | BB4: =SUM(BO18,BO33,BO48) -> 124500
AU5: 補助予定額 | BB5: =MIN(ROUNDDOWN((BB4-BB6),-3),BB3) -> 124000 | BX5: ⇐千円未満切捨て
AU6: 自己資金等 | BB6: 500 | BX6: ⇐自己資金を含む場合、こちらに入力してください。
AU7: 事業実施予定期間 | BB7: 開始日 | BD7: 令和 | BF7: 8 | BG7: 年 | BH7: 5 | BI7: 月 | BJ7: 12 | BK7: 日 | BM7: 終了日 | BO7: 令和 | BQ7: 8 | BR7: 年 | BS7: 12 | BT7: 月 | BU7: 15 | BV7: 日 | BX7: ⇐各取組の事業実施期間のうち、最も早い日を開始日、最も遅い日を終了日としてください。
B9: 実施予定の広報活動の詳細
C11: 【取組１】
C13: 実施予定広報活動詳細 | K13: 【 | L13: 職員募集についてのチラシの配布 | BV13: 】
C15: 事業実施予定期間 | K15: 開始日 | N15: ： | O15: 令和 | R15: 8 | S15: 年 | T15: 5 | U15: 月 | V15: 12 | W15: 日 | Y15: 終了日 | AB15: ： | AC15: 令和 | AF15: 8 | AG15: 年 | AH15: 11 | AI15: 月 | AJ15: 1 | AK15: 日 | BV15: 】
C17: 経費区分 | H17: 金額 | N17: 備考（支出内容詳細・積算根拠） | BO17: 取組１小計
C18: 需用費 | H18: 61500 | N18: チラシ印刷代 16.5円×3000枚=49,500円 新聞折込代 12,000円 | BO18: =SUM(H18:M22) -> 61500 | BU18: 円
C26: 【取組２】
C28: 実施予定広報活動詳細 | K28: 【 | L28: 事業所HPの作成・改修 | BV28: 】
C30: 事業実施予定期間 | K30: 開始日 | N30: ： | O30: 令和 | R30: 8 | S30: 年 | T30: 10 | U30: 月 | V30: 15 | W30: 日 | Y30: 終了日 | AB30: ： | AC30: 令和 | AF30: 8 | AG30: 年 | AH30: 12 | AI30: 月 | AJ30: 15 | AK30: 日 | BV30: 】
C32: 経費区分 | H32: 金額 | N32: 備考（支出内容詳細・積算根拠） | BO32: 取組２小計
C33: 委託料 | H33: 63000 | N33: ホームページ改修費 63,000円 | BO33: =SUM(H33:M37) -> 63000 | BU33: 円
C41: 【取組３】
C43: 実施予定広報活動詳細 | K43: 【 | BV43: 】
C45: 事業実施予定期間 | K45: 開始日 | N45: ： | O45: 令和 | S45: 年 | U45: 月 | W45: 日 | Y45: 終了日 | AB45: ： | AC45: 令和 | AG45: 年 | AI45: 月 | AK45: 日 | BV45: 】
C47: 経費区分 | H47: 金額 | N47: 備考（支出内容詳細・積算根拠） | BO47: 取組３小計
BO48: =SUM(H48:M52) -> 0 | BU48: 円

Sheet 歳入歳出予算（見込）書の抄本
A1: (参考様式）
A2: 歳入歳出予算(見込）書の抄本
A5: （収入の部） | I5: 目次に戻る
A6: 経 費 区 分 | C6: 予 算 額 | D6: 摘 要
A7: 補 助 金 | C7: =【入力不要】様式第２号_所要額調書!N69 -> 2756000 | D7: 訪問介護等サービス提供体制確保支援事業補助金
A8: その他 | C8: =SUM(【入力不要】様式第２号_所要額調書!I16,【入力不要】様式第２号_所要額調書!I30,【入力不要】様式第２号_所要額調書!I23,【入力不要】様式第２号_所要額調書!I42,【入力不要】様式第２号_所要額調書!I49,【入力不要】様式第２号_所要額調書!I56,【入力不要】様式第２号_所要額調書!I63) -> 826 | D8: 自己資金（寄付金その他収入額）
A9: 計 | C9: =C7+C8 -> 2756826
A11: （支出の部）
A12: 経 費 区 分 | C12: 予 算 額 | D12: 摘 要
A13: 研修体制 | C13: 25326 | D13: 受講費、旅費、報償費
A15: 採用活動 | C15: 71000 | D15: 旅費、宿泊費、参加費・負担金
A16: 同行支援 | C16: 236000 | D16: 経験年数が短い訪問介護員等への同行 30分未満×16回 30分以上×36回
A17: 経営改善 | C17: 300000 | D17: 専門家委託料
A18: 常勤化 | C18: 500000 | D18: 正規雇用２名 100,000円×５か月
A19: 協働化 | C19: 1500000 | D19: 受講費
A20: 広報活動 | C20: 124500 | D20: 需用費
A21: 計 | C21: =SUM(C13:C20) -> 2756826 | I21: =IF(C9=C21,"","←収入の部と支出の部の合計金額が一致していません。")
F22: ="令和８年"&基本情報入力シート!G79&"月"&基本情報入力シート!I79&"日" -> 令和８年10月9日
A23: 上記のとおり原本と相違ないことを証明する。
A24: =基本情報入力シート!J19&" "&基本情報入力シート!J25&" "&基本情報入力シート!J26 -> 株式会社 ◇◇ケアサービス 代表取締役 長野 太郎

Sheet 様式第5号_事前着手届
A1: 様式第５号
A4: 訪問介護等サービス提供体制確保支援事業補助金事前着手届
AN5: 目次に戻る
AJ6: 第 | AM6: 号
AI7: 年 | AK7: 月 | AM7: 日
A9: 長野県知事 阿部 守一 様
P11: 申請者
P12: （所在地） | W12: =基本情報入力シート!J21&" "&基本情報入力シート!J23 -> 長野県△△市□□□1-1 ☆☆ビル １階
P13: （法人等の名称） | W13: =基本情報入力シート!J19 -> 株式会社 ◇◇ケアサービス
P14: （代表者職・氏名） | W14: =基本情報入力シート!J25&" "&基本情報入力シート!J26 -> 代表取締役 長野 太郎
A16: 令和８年度において訪問介護等サービス提供体制確保支援事業として実施を要望する別紙の事業について、交付決定前に着手しますので届け出ます。 なお、本件について交付決定がなされなかった場合においても異議は申し立てません。
A20: 記
A22: １ 事前着手の理由
A23: 事業に事前着手することで、十分な事業実施期間を確保し、事業効果を高めるため。
A25: ２ 着手及び完了予定年月日
A26: 着手：令和８年５月12日 完了予定：令和８年12月31日
A35: ※ 別紙は、交付申請書（様式第４号）に定める所定の事業計画書によること

Sheet 様式第13号_概算払請求書
B1: （様式第13号）
B3: 訪問介護等サービス提供体制確保支援事業補助金交付請求書
AI5: 第 号 | AN5: 目次に戻る
AD6: 令和 年 月 日
B8: 長野県知事 阿部 守一 様
R10: 補助事業者
S11: （所在地） | Z11: =基本情報入力シート!J21&" "&基本情報入力シート!J23 -> 長野県△△市□□□1-1 ☆☆ビル １階
S12: （法人等の名称） | Z12: =基本情報入力シート!J19 -> 株式会社 ◇◇ケアサービス
S13: （代表者職・氏名） | Z13: =基本情報入力シート!J25&" "&基本情報入力シート!J26 -> 代表取締役 長野 太郎
B15: 令和 年 月 日付長野県達(指令)８介第 号で額の確定（交付決定）のあった令和８年度訪問介護等サービス提供体制確保支援事業補助金について、下記のとおり交付してください。
B18: 記
B20: 1 | C20: 事業名
C21: 訪問介護等サービス提供体制確保支援事業
B23: 2 | C23: 補助金確定（交付決定）額
C24: 金 | D24: =基本情報入力シート!J61 -> 2756000 | K24: 円
B26: 3 | C26: 既交付額
C27: 金 | D27: 0 | K27: 円
B29: 4 | C29: 今回請求額
C30: 金 | D30: 2756000 | K30: 円 | AN30: ←概算払を希望する場合、概算払金額を入力してください。
B32: 5 | C32: 差引額（残額）（１－（２＋３））
C33: 金 | D33: =D24-(D27+D30) -> 0 | K33: 円
B35: 6 | C35: 振込先口座
B37: 金融機関名 | G37: =基本情報入力シート!N65 -> ☆☆銀行
B38: 支店等名 | G38: =基本情報入力シート!N67 -> □□支店
B39: 預金種別 | G39: =基本情報入力シート!AH65 -> 普通
B40: 口座番号 | G40: =基本情報入力シート!AH67 -> 0000000
B41: （フリガナ） | G41: =基本情報入力シート!N69 -> ｶﾌﾞｼｷｶﾞｲｼｬ◇◇ｹｱｻｰﾋﾞｽ ﾀﾞｲﾋｮｳﾄﾘｼﾏﾘﾔｸ ﾅｶﾞﾉﾀﾛｳ
B42: 口座名義人 | G42: =基本情報入力シート!N70 -> 株式会社◇◇ケアサービス 代表取締役 長野太郎

Sheet 【入力不要】様式第1号_事業計画書
Q1: 事業計画書用
AN2: 目次に戻る
B4: 様式第１号
AE6: 令和 | AG6: =基本情報入力シート!E79 -> 8 | AH6: 年 | AI6: =基本情報入力シート!G79 -> 10 | AJ6: 月 | AK6: =基本情報入力シート!I79 -> 9 | AL6: 日
A8: 長野県知事 阿部 守一 様
R10: 法人住所 | W10: 〒 | X10: =基本情報入力シート!J20 -> ○○〇 | Z10: - | AA10: =基本情報入力シート!N20 -> 〇〇〇〇
W11: =基本情報入力シート!J21 -> 長野県△△市□□□1-1
W12: =基本情報入力シート!J23 -> ☆☆ビル １階
R13: 法人等の名称 | W13: =基本情報入力シート!J19 -> 株式会社 ◇◇ケアサービス
R14: 代表者職名 | W14: =基本情報入力シート!J25 -> 代表取締役
R15: 代表者氏名 | W15: =基本情報入力シート!J26 -> 長野 太郎
R16: 事業所番号 | W16: =基本情報入力シート!J30 -> 2011111111
A19: 訪問介護等サービス提供体制確保支援事業補助金事業計画書
B22: 令和 年度における標記事業を下記のとおり実施したいので、訪問介護等サービス提供体制確保支援事業補助金交付要綱に基づき、関係書類を添えて提出します。
A27: 記
A30: 関係書類 | B30: 1 | C30: 訪問介護等サービス提供体制確保支援事業補助金所要額調書（様式第２号）
B31: 2 | C31: 訪問介護等サービス提供体制確保支援事業計画書（様式第３号）
B32: 3 | C32: 歳入歳出予算（見込）書抄本

Sheet 【入力不要】様式第２号_所要額調書
B3: 様式第２号
B5: 訪問介護等サービス提供体制確保支援事業補助金 所要額調書
S7: 事業所名 | T7: =基本情報入力シート!J32 -> ヘルパーステーション ◇◇ケアサービス | AO7: 目次に戻る
B11: （１）人材確保体制構築
B13: =IF(基本情報入力シート!J50>0,"☑","") -> ☑ | C13: （ア）研修体制の構築
C14: 総事業費 | I14: 寄付金 | O14: 差引額 | U14: 対象経費 | AA14: 基準額 | AG14: 補助額
I15: その他の収入額 | U15: 支出予定額
C16: ='1-（ア）研修体制'!BB4 -> 25326 | I16: ='1-（ア）研修体制'!BB6 -> 326 | O16: =C16-I16 -> 25000 | U16: =C16 -> 25326 | AA16: ='1-（ア）研修体制'!BB3 -> 25000 | AG16: ='1-（ア）研修体制'!BB5 -> 25000
B19: =IF(基本情報入力シート!J51>0,"☑","") -> ☑ | C19: （イ）中山間地域等・離島等地域における採用活動
C21: 総事業費 | I21: 寄付金 | O21: 差引額 | U21: 対象経費 | AA21: 基準額 | AG21: 補助額
I22: その他の収入額 | U22: 支出予定額
C23: ='1-（イ）採用活動'!BB5 -> 71000 | I23: ='1-（イ）採用活動'!BB7 -> 0 | O23: =C23-I23 -> 71000 | U23: =C23 -> 71000 | AA23: ='1-（イ）採用活動'!BB4 -> 71000 | AG23: ='1-（イ）採用活動'!BB6 -> 71000
B26: =IF(基本情報入力シート!J52>0,"☑","") -> ☑ | C26: （ウ）経験年数が短い訪問介護員等への同行
C28: 総事業費 | I28: 寄付金 | O28: 差引額 | U28: 対象経費 | AA28: 基準額 | AG28: 補助額
I29: その他の収入額 | U29: 支出予定額
C30: ='1-（ウ）同行支援'!AZ3 -> 236000 | I30: ='1-（ウ）同行支援'!AZ6 -> 0 | O30: =C30-I30 -> 236000 | U30: =C30 -> 236000 | AA30: ='1-（ウ）同行支援'!AZ3 -> 236000 | AG30: ='1-（ウ）同行支援'!AZ5 -> 236000
C33: （１）合計 | G33: =SUM(AG16,AG23,AG30) -> 332000 | M33: 円
B36: （２）経営改善
B38: =IF(基本情報入力シート!J56>0,"☑","") -> ☑ | C38: （ア）経営改善の支援
C40: 総事業費 | I40: 寄付金 | O40: 差引額 | U40: 対象経費 | AA40: 基準額 | AG40: 補助額
I41: その他の収入額 | U41: 支出予定額
C42: ='2-（ア）経営改善'!BD4 -> 300000 | I42: ='2-（ア）経営改善'!BD6 -> 0 | O42: =C42-I42 -> 300000 | U42: =C42 -> 300000 | AA42: ='2-（ア）経営改善'!BD3 -> 300000 | AG42: ='2-（ア）経営改善'!BD5 -> 300000
B45: =IF(基本情報入力シート!J57>0,"☑","") -> ☑ | C45: （イ）登録ヘルパー等の常勤化の促進
C47: 総事業費 | I47: 寄付金 | O47: 差引額 | U47: 対象経費 | AA47: 基準額 | AG47: 補助額
I48: その他の収入額 | U48: 支出予定額
C49: ='2-（イ）常勤化'!AQ4 -> 500000 | I49: ='2-（イ）常勤化'!AQ6 -> 0 | O49: =C49-I49 -> 500000 | U49: =C49 -> 500000 | AA49: ='2-（イ）常勤化'!AQ3 -> 500000 | AG49: ='2-（イ）常勤化'!AQ5 -> 500000
B52: =IF(基本情報入力シート!J58>0,"☑","") -> ☑ | C52: （ウ）小規模法人等の協働化・大規模化の取組
C54: 総事業費 | I54: 寄付金 | O54: 差引額 | U54: 対象経費 | AA54: 基準額 | AG54: 補助額
I55: その他の収入額 | U55: 支出予定額
C56: ='2-（ウ）協働化'!AV5 -> 1500000 | I56: ='2-（ウ）協働化'!AV7 -> 0 | O56: =C56-I56 -> 1500000 | U56: =C56 -> 1500000 | AA56: ='2-（ウ）協働化'!AV4 -> 1500000 | AG56: ='2-（ウ）協働化'!AV6 -> 1500000
B59: =IF(基本情報入力シート!J59>0,"☑","") -> ☑ | C59: （エ）介護人材・利用者確保のための広報活動
C61: 総事業費 | I61: 寄付金 | O61: 差引額 | U61: 対象経費 | AA61: 基準額 | AG61: 補助額
I62: その他の収入額 | U62: 支出予定額
C63: ='2-（エ）広報活動'!BB4 -> 124500 | I63: ='2-（エ）広報活動'!BB6 -> 500 | O63: =C63-I63 -> 124000 | U63: =C63 -> 124500 | AA63: ='2-（エ）広報活動'!BB3 -> 124000 | AG63: ='2-（エ）広報活動'!BB5 -> 124000
C66: （２）合計 | G66: =SUM(AG42,AG49,AG56,AG63) -> 2424000 | M66: 円
B69: 補助計画額の合計（１）+（２） | N69: =G33+G66 -> 2756000 | U69: 円

Sheet 【入力不要】様式第３号_事業計画書
B2: 様式第３号
B4: 訪問介護等サービス提供体制確保支援事業計画書
T6: サービス種別 | Y6: {=基本情報入力シート!J29:J29} -> 訪問介護 | AO6: 目次に戻る
T7: 事業所番号 | Y7: =基本情報入力シート!J30 -> 2011111111
T8: 事業所名 | Y8: {=基本情報入力シート!J32:J32} -> ヘルパーステーション ◇◇ケアサービス
B11: （１）人材確保体制構築
C14: （ア）研修体制の構築
D16: ① | E16: 事業実施予定期間 | L16: 着手予定日 | Q16: 令和 | S16: ='1-（ア）研修体制'!BF7 -> 8 | T16: 年 | U16: ='1-（ア）研修体制'!BH7 -> 11 | V16: 月 | W16: ='1-（ア）研修体制'!BJ7 -> 1 | X16: 日 | Y16: 完了予定日 | AD16: 令和 | AF16: ='1-（ア）研修体制'!BQ7 -> 8 | AG16: 年 | AH16: ='1-（ア）研修体制'!BS7 -> 11 | AI16: 月 | AJ16: ='1-（ア）研修体制'!BU7 -> 1 | AK16: 日
D18: ② | E18: 実施予定事業
D19: ='1-（ア）研修体制'!K13 -> 訪問介護基礎講座
D20: ='1-（ア）研修体制'!K31 -> 0
D21: ='1-（ア）研修体制'!K49 -> 0
C24: （イ）中山間地域等・離島等地域における採用活動
D26: ① | E26: 事業実施予定期間 | L26: 着手予定日 | Q26: 令和 | S26: ='1-（イ）採用活動'!BF8 -> 8 | T26: 年 | U26: ='1-（イ）採用活動'!BH8 -> 11 | V26: 月 | W26: ='1-（イ）採用活動'!BJ8 -> 20 | X26: 日 | Y26: 完了予定日 | AD26: 令和 | AF26: ='1-（イ）採用活動'!BQ8 -> 8 | AG26: 年 | AH26: ='1-（イ）採用活動'!BS8 -> 11 | AI26: 月 | AJ26: ='1-（イ）採用活動'!BU8 -> 22 | AK26: 日
D28: ② | E28: 実施予定事業
D29: ='1-（イ）採用活動'!K14 -> 訪問介護事業所就活フェア
D30: ='1-（イ）採用活動'!K31 -> 0
D31: ='1-（イ）採用活動'!K48 -> 0
C34: （ウ）経験年数が短い訪問介護員等への同行
D36: ① | E36: 事業実施予定期間 | L36: 着手予定日 | Q36: 令和 | S36: ='1-（ウ）同行支援'!BE7 -> 8 | T36: 年 | U36: ='1-（ウ）同行支援'!BG7 -> 10 | V36: 月 | W36: ='1-（ウ）同行支援'!BI7 -> 9 | X36: 日 | Y36: 完了予定日 | AD36: 令和 | AF36: ='1-（ウ）同行支援'!BP7 -> 8 | AG36: 年 | AH36: ='1-（ウ）同行支援'!BR7 -> 12 | AI36: 月 | AJ36: ='1-（ウ）同行支援'!BT7 -> 31 | AK36: 日
D38: ② | E38: 同行を受ける職員の人数 | Q38: ③ | R38: 延べ同行訪問回数
E40: =COUNTA('1-（ウ）同行支援'!T11,'1-（ウ）同行支援'!T20,'1-（ウ）同行支援'!T29,'1-（ウ）同行支援'!T38,'1-（ウ）同行支援'!T47,'1-（ウ）同行支援'!T56) -> 2 | G40: 人 | R40: =SUM('1-（ウ）同行支援'!BC13,'1-（ウ）同行支援'!BC15,'1-（ウ）同行支援'!BC22,'1-（ウ）同行支援'!BC24,'1-（ウ）同行支援'!BC31,'1-（ウ）同行支援'!BC33,'1-（ウ）同行支援'!BC40,'1-（ウ）同行支援'!BC42,'1-（ウ）同行支援'!BC49,'1-（ウ）同行支援'!BC51,'1-（ウ）同行支援'!BC58,'1-（ウ）同行支援'!BC60) -> 52 | T40: 回
B44: （２）経営改善
C47: （ア）経営改善の支援
B48: 0 | D48: ① | E48: 事業実施予定期間 | L48: 着手予定日 | Q48: 令和 | S48: ='2-（ア）経営改善'!BI7 -> 8 | T48: 年 | U48: ='2-（ア）経営改善'!BK7 -> 10 | V48: 月 | W48: ='2-（ア）経営改善'!BM7 -> 15 | X48: 日 | Y48: 完了予定日 | AD48: 令和 | AF48: ='2-（ア）経営改善'!BT7 -> 8 | AG48: 年 | AH48: ='2-（ア）経営改善'!BV7 -> 12 | AI48: 月 | AJ48: ='2-（ア）経営改善'!BX7 -> 31 | AK48: 日
D50: ② | E50: 実施予定事業
D51: =IF('2-（ア）経営改善'!B5>0,'2-（ア）経営改善'!D5,"") -> 経営改善の外部コンサルタントに委託を行う。
D52: =IF('2-（ア）経営改善'!B7>0,'2-（ア）経営改善'!D7,"")
B55: 0 | C55: （イ）登録ヘルパー等の常勤化の促進
D57: ① | E57: 事業実施予定期間 | L57: 着手予定日 | Q57: 令和 | S57: ='2-（イ）常勤化'!AU7 -> 8 | T57: 年 | U57: ='2-（ア）経営改善'!BK7 -> 10 | V57: 月 | W57: ='2-（ア）経営改善'!BM7 -> 15 | X57: 日 | Y57: 完了予定日 | AD57: 令和 | AF57: ='2-（ア）経営改善'!BT7 -> 8 | AG57: 年 | AH57: ='2-（ア）経営改善'!BV7 -> 12 | AI57: 月 | AJ57: ='2-（ア）経営改善'!BX7 -> 31 | AK57: 日
D59: ② | E59: 常勤化を行う予定の職員数
E60: =COUNTA('2-（イ）常勤化'!H11,'2-（イ）常勤化'!H19,'2-（イ）常勤化'!H27,'2-（イ）常勤化'!H35,'2-（イ）常勤化'!H43,'2-（イ）常勤化'!H51) -> 2 | G60: 人
B63: 0 | C63: （ウ）小規模法人等の協働化・大規模化の取組
D65: ① | E65: 事業実施予定期間 | L65: 着手予定日 | Q65: 令和 | S65: ='2-（ウ）協働化'!AZ8 -> 8 | T65: 年 | U65: ='2-（ウ）協働化'!BB8 -> 11 | V65: 月 | W65: ='2-（ウ）協働化'!BD8 -> 1 | X65: 日 | Y65: 完了予定日 | AD65: 令和 | AF65: ='2-（ウ）協働化'!BJ8 -> 8 | AG65: 年 | AH65: ='2-（ウ）協働化'!BL8 -> 12 | AI65: 月 | AJ65: ='2-（ウ）協働化'!BN8 -> 31 | AK65: 日
D67: ② | E67: 実施予定事業
D68: ='2-（ウ）協働化'!K12 -> 介護職員合同研修
D69: ='2-（ウ）協働化'!K25 -> 0
B72: 0 | C72: （エ）介護人材・利用者確保のための広報活動
D74: ① | E74: 事業実施予定期間 | L74: 着手予定日 | Q74: 令和 | S74: ='2-（エ）広報活動'!BF7 -> 8 | T74: 年 | U74: ='2-（エ）広報活動'!BH7 -> 5 | V74: 月 | W74: ='2-（エ）広報活動'!BJ7 -> 12 | X74: 日 | Y74: 完了予定日 | AD74: 令和 | AF74: ='2-（エ）広報活動'!BQ7 -> 8 | AG74: 年 | AH74: ='2-（エ）広報活動'!BS7 -> 12 | AI74: 月 | AJ74: ='2-（エ）広報活動'!BU7 -> 15 | AK74: 日
D76: ② | E76: 実施予定事業
...

Sheet 【入力不要】様式第４号_交付申請書
Q1: 交付申請書用
B4: 様式第４号
AE6: 令和 | AG6: =基本情報入力シート!E79 -> 8 | AH6: 年 | AI6: {=基本情報入力シート!G79:G79} -> 10 | AJ6: 月 | AK6: {=基本情報入力シート!I79:I79} -> 9 | AL6: 日 | AN6: 目次に戻る
A8: 長野県知事 阿部 守一 様
R10: 法人住所 | W10: 〒 | X10: {=基本情報入力シート!J33:J33} -> 〇○○ | Z10: - | AA10: {=基本情報入力シート!N33:N33} -> ○○〇〇
W11: {=基本情報入力シート!J34:J34} -> 長野県△△市□□□1-1
W12: =基本情報入力シート!J23 -> ☆☆ビル １階
R13: 法人等の名称 | W13: =基本情報入力シート!J19 -> 株式会社 ◇◇ケアサービス
R14: 代表者職名 | W14: {=基本情報入力シート!J25:J25} -> 代表取締役
R15: 代表者氏名 | W15: {=基本情報入力シート!J26:J26} -> 長野 太郎
R16: 事業所番号 | W16: {=基本情報入力シート!J30:J30} -> 2011111111
A19: 訪問介護等サービス提供体制確保支援事業補助金交付申請書
A22: 令和 年度における標記事業を下記のとおり実施したいので、訪問介護等サービス提供体制確保支援事業補助金交付要綱
A23: に基づき、関係書類を添えて提出します。
A27: 記
B29: 1 | D29: 交付申請額 | J29: 金 | M29: =【入力不要】様式第２号_所要額調書!N69 -> 2756000 | V29: 円
B31: 2 | D31: 申請内容 | J31: （１）人材確保体制構築
J33: （ア）研修体制の構築 | Y33: 金 | AA33: =【入力不要】様式第２号_所要額調書!AG16 -> 25000 | AJ33: 円
J35: （イ）中山間地域等・離島等地域における採用活動 | Y35: 金 | AA35: =【入力不要】様式第２号_所要額調書!AG23 -> 71000 | AJ35: 円
J37: （ウ）経験年数が短い訪問介護員等への同行 | Y37: 金 | AA37: =【入力不要】様式第２号_所要額調書!AG30 -> 236000 | AJ37: 円
J39: （２）経営改善
J41: （ア）経営改善の支援 | Y41: 金 | AA41: =【入力不要】様式第２号_所要額調書!AG42 -> 300000 | AJ41: 円
J43: （イ）登録ヘルパー等の常勤化の促進 | Y43: 金 | AA43: =【入力不要】様式第２号_所要額調書!AG49 -> 500000 | AJ43: 円
J45: （ウ）小規模法人等の協働化・大規模化の取組 | Y45: 金 | AA45: =【入力不要】様式第２号_所要額調書!AG56 -> 1500000 | AJ45: 円
J47: （エ）介護人材・利用者確保のための広報活動 | Y47: 金 | AA47: =【入力不要】様式第２号_所要額調書!AG63 -> 124000 | AJ47: 円
B49: 3 | D49: 添付書類 | J49: （１）訪問介護等サービス提供体制確保支援事業補助金所要額調書（様式第２号）
J50: （２）訪問介護等サービス提供体制確保支援事業計画書（様式第３号）
J51: （３）歳入歳出予算（見込）書抄本
J52: （４）その他参考となる書類

Sheet 中山間地域一覧
A1: 圏域 | B1: 市町村 | C1: 振興山村 | E1: 厚労大臣が別に定める地域 | G1: 豪雪地帯及び特別豪雪地帯 | K1: 辺地 | P1: 特定農山村 | S1: 過疎地域
A3: 佐久 | B3: 小諸市 | P3: 全域 | U3: 参考様式に戻る
B4: 佐久市 | C4: 内山、春日 | K4: 黒田・大月、東立科・美笹、丸山・馬坂・広川原、湯原新田・十二新田、協西・合の沢・大木・長者原・春日西久保・春日東久保、印西原・御牧原（望月）、苦水、東地 | P4: 大沢、内山、志賀、切原、田口、本牧、布施、春日、協和 | U4: 参考様式-共通
B8: 小海町 | C8: 全域 | P8: 全域 | S8: 全域
B9: 川上村 | C9: 全域 | K9: 川端下、梓山、居倉、樋沢、秋山、大深山、原、御所平 | P9: 全域
B11: 南牧村 | C11: 全域 | K11: 平沢、野辺山、板橋、川平、広瀬、市場、海ノ口、海尻 | P11: 全域
B13: 南相木村 | C13: 全域 | K13: 三川・立原、栗生・栗生川、加佐、中島、和田、祝平、第八、日向 | P13: 全域
B15: 北相木村 | C15: 全域 | K15: 白岩 | P15: 全域 | S15: 全域
B16: 佐久穂町 | C16: 大日向、栄、畑八 | K16: 大張・中尾・屋敷入、中谷、矢沢・宿戸、古谷、うそのくち、松井、八郡、大石、馬越、余地本郷、平川原、大日向本郷、下川原、館・旭、大岳、影・新田、穴原・筆岩、佐口・上野 | P16: 全域 | S16: 全域
B20: 軽井沢町 | C20: 伍賀
B21: 御代田町
B22: 立科町 | C22: 芦田 | K22: 蓼科・中尾 | P22: 全域 | S22: 全域
A23: 上田 | B23: 上田市 | C23: 傍陽、長、室賀、西内、武石 | G23: 旧塩田町、旧川西村、旧丸子町、旧武石村を除いた地域 | K23: 菅平東組、菅平中組、菅平向組、菅平西組、渋沢、野倉、余里、上本入西部、上本入東部 | P23: 東内、西内、殿城、西塩田、室賀、傍陽、長、本原、武石
B25: 東御市 | K25: 聖、奈良原、東・西入 | P25: 全域
B26: 長和町 | C26: 大門、和田 | K26: 鷹山、姫木 | P26: 全域 | S26: 全域
B27: 青木村 | C27: 青木 | K27: 入奈良本、弘法、釜房、湯原宮沢、原池 | P27: 全域
A28: 諏訪 | B28: 岡谷市
B29: 諏訪市 | K29: 後山 | P29: 湖南
B30: 茅野市 | K30: 白樺湖、車山 | P30: 米沢、豊平、泉野、金沢、湖東、北山
B32: 下諏訪町 | P32: 全域
B33: 富士見町 | P33: 全域
B34: 原村
A35: 伊那 | B35: 伊那市 | C35: 長藤、三義、藤沢、伊那里、美和 | K35: 横山、平沢、杉島、小屋敷、上新山、荊口、松倉、片倉、御堂垣外、山室 | P35: 長藤、三義、藤沢、高遠、河南、伊那里、美和
B37: 駒ケ根市 | C37: 中沢 | K37: 東部、吉瀬、中曽倉第１ | P37: 中沢
B38: 辰野町 | C38: 川島 | K38: 鴻ノ田、上野 | P38: 全域
B39: 箕輪町 | C39: 東箕輪 | P39: 東箕輪
B40: 飯島町 | P40: 七久保
B41: 南箕輪村
B42: 中川村 | C42: 南向 | K42: 上北山方、柳沢、飯沼 | P42: 全域 | S42: 全域
B43: 宮田村
A44: 飯田 | B44: 飯田市 | C44: 千代、上、木沢、和田、八重河内、南和田 | G44: 旧南信濃村の地域 | K44: 梨子洞、毛呂窪、法全寺、米峰、箱川、田力、泉垣外、程野、下栗、雲母、尾科、尾林、大郡、原平、蛇沼、平栗、木沢、八重河内、南和田 | P44: 飯田、下久堅、千代、上久堅、上、木沢、和田、八重河内、南和田
B47: 松川町 | K47: 生東、増野、西山 | P47: 生田
B48: 高森町 | P48: 全域
B49: 阿南町 | C49: 和合 | K49: 和合、和知野、帯川、梅田、鴨目、大島、新木田、雲雀澤 | P49: 全域 | S49: 全域
B51: 阿智村 | C51: 智里、浪合、清内路 | K51: 本谷園原、浪合北部、浪合東部、浪合中央部、浪合治部坂、上清内路 | P51: 全域
B53: 平谷村 | C53: 全域 | P53: 全域 | S53: 全域
B54: 根羽村 | C54: 全域 | K54: 北洞、東洞、西洞、南洞、小戸名浅間、小川中野 | P54: 全域 | S54: 全域
B55: 下條村 | K55: 新田、親田、入野、阿知原、小松原、鎮西
B56: 売木村 | C56: 全域 | P56: 全域 | S56: 全域
B57: 天龍村 | C57: 全域 | K57: 向方、坂部 | P57: 全域 | S57: 全域
...

Sheet 【非表示】設定
B3: 非該当 | D3: ○ | F3: 希望する | H3: ✔ | J3: 普通 | L3: 1 | N3: 〇
B4: 該当 | D4: × | F4: 希望しない | J4: 当座 | L4: 2
J5: 貯蓄 | L5: 4
B6: 訪問介護 | J6: その他 | L6: 9
B7: 定期巡回・随時対応型訪問介護看護
B8: 夜間対応型訪問介護
B11: 受講費 | D11: 受講費 | F11: 委託料 | H11: 旅費 | J11: 1
B12: 交通費 | D12: 交通費 | F12: 需用費 | H12: 宿泊費 | J12: 2
B13: 教材費 | D13: 教材費 | F13: 役務費 | H13: 参加費・負担金 | J13: 3
B14: 印刷費 | D14: 印刷費 | F14: その他 | H14: その他
B15: 物品購入費 | D15: 物品購入費
B16: 謝金 | D16: 謝金
B17: その他 | D17: 使用料
D18: その他
B21: 受講料 | D21: 専門家委託料
B22: 旅費
B23: 需用費 | D23: 臨時職員人件費
B24: 報償費 | D24: その他
B25: その他

Sheet 【非表示】記載例
C2: 研修費 | F2: 経営改善
C3: 支出内容・内訳の例 | F3: 支出内容・内訳記載例
C4: 受講料 | D4: 負担金・参加費 | F4: 専門家委託料 | G4: 社労士による特定事業所加算取得支援
C5: 旅費 | D5: 交通費・宿泊費（講師分を含む） | G5: 経営コンサルによる経営改善計画策定
C6: 需用費 | D6: 教材費・図書購入費 | F6: 臨時職員人件費 | G6: 事務補助員雇用
C7: 報償費 | D7: 講師謝金 | F7: その他
C8: その他 | D8: 会場使用料など
C10: 協働化 | F10: 広報活動
C11: 支出内容・内訳の例 | F11: 支出内容・内訳の例
C12: 受講費 | D12: 合同研修参加費等 | F12: 委託料 | G12: ホームページ改修費
C13: 交通費 | D13: 研修参加旅費 | F13: 需用費 | G13: チラシ印刷代・広報用消耗品費
C14: 教材費 | D14: 教材、参考図書購入費 | F14: 役務費 | G14: SNS広告費・新聞広告掲載費
C15: 印刷費 | D15: 研修資料印刷費 | F15: その他
C16: 物品購入費 | D16: ICT機器等の購入
C17: 謝金 | D17: 講師謝金 | F17: 各シートに戻る
C18: 使用料 | D18: 会場使用料
C19: その他
C21: 採用活動
C22: 支出内容・内訳の例
C23: 旅費 | D23: 電車代・バス代
C24: 宿泊費 | D24: 求職者ホテル代・採用担当者ホテル代
C25: 参加費・負担金 | D25: 就職フェアへの参加料・出展料
C26: その他

Sheet リスト
A2: サービス種別
A3: 訪問介護
A4: 定期巡回・随時対応型訪問介護看護
A5: 夜間対応型訪問介護
A7: ○

Sheet リスト２
A2: （ア）研修体制の構築
A3: （イ）中山間地域等における採用活動
A4: （ウ）経験年数が短いホームヘルパー等への同行
A6: （ア）登録ヘルパー等の常勤化の促進
A7: （イ）小規模法人等の協働化・大規模化の取組
A8: （ウ）介護人材・利用者確保のための広報活動
